BEGIN:VCALENDAR
VERSION:2.0
PRODID:-//wp-events-plugin.com//7.2.3.1//EN
TZID:America/Phoenix
X-WR-TIMEZONE:America/Phoenix
BEGIN:VEVENT
UID:130@acu-connect.com
DTSTART;TZID=America/New_York:20241113T140000
DTEND;TZID=America/New_York:20241113T143000
DTSTAMP:20241026T171119Z
URL:https://acu-connect.com/events/25-b2b-ecommerce-tips-to-improve-your-o
 nline-strategy/
SUMMARY:25 B2B Ecommerce Tips to Improve Your Online Strategy
DESCRIPTION:It’s time to bridge the B2B buyer-vendor disconnect.\nToday
 ’s B2B buyers are underwhelmed with their ecommerce experiences — and 
 their preferred suppliers are completely missing the memo.\n\nWant to lear
 n how to better align your ecommerce experience with your customers’ nee
 ds?\n\nJoin the live webinar (or watch on-demand after the session!) to le
 arn:\n\n 	The B2B ecommerce trends driving change — and widening the dis
 connect\n 	Actionable tips for improving your B2B customer experience\, fr
 om purchasing to fulfillment\n 	Leading best practices for personalization
 \, pricing\, payment processing\, leveraging marketplaces\, and more.\n\n\
 n\n\nSpeakers:\n\nPatrick Fusarini - Solutions Consultant\nRob Cook - Busi
 ness Development Manager\n\nDate: November 13\, 2024\nTime: 2 PM ET
ATTACH;FMTTYPE=image/jpeg:https://acu-connect.com/wp-content/uploads/2024/
 10/25-b2b-ecommerce-tips-to-improve-your-online-strategy-featured.png
CATEGORIES:Webinar
LOCATION:https://bit.ly/4dYCT1T
END:VEVENT
BEGIN:VTIMEZONE
TZID:America/New_York
X-LIC-LOCATION:America/New_York
BEGIN:STANDARD
DTSTART:20241103T010000
TZOFFSETFROM:-0400
TZOFFSETTO:-0500
TZNAME:EST
END:STANDARD
END:VTIMEZONE
END:VCALENDAR