BEGIN:VCALENDAR
VERSION:2.0
PRODID:-//wp-events-plugin.com//7.2.3.1//EN
TZID:America/Phoenix
X-WR-TIMEZONE:America/Phoenix
BEGIN:VEVENT
UID:85@acu-connect.com
DTSTART;TZID=America/New_York:20240208T150000
DTEND;TZID=America/New_York:20240208T154500
DTSTAMP:20240202T164809Z
URL:https://acu-connect.com/events/90-minds-and-acu-connect-present-influe
 nce-and-negotiation/
SUMMARY:acu-connect and 90 Minds Present Influence and Negotiation
DESCRIPTION:90 Minds and acu-connect are excited to partner again on our ne
 xt webinar.\n\nJoin Meeting of the Minds Keynote and former hostage negoti
 ator Scott Tillema for this webinar on Influence and Negotiation.\n\nHow w
 e engage with others directly impacts our ability to get what we want.\n\n
 In this 45-minute webinar\, you’ll be challenged to explore how you nego
 tiate with others and approach difficult conversations. Finding influence 
 in difficult conversations is more than simply asking nicely and hoping yo
 ur counterpart will give you what you want. Professional negotiators know 
 how to leverage techniques to find success\, and after this session\, you 
 will too.\n\nScott Tillema is an internationally recognized crisis negotia
 tor\, keynote speaker\, advisor and trainer.  He is known and respected f
 or his experience negotiating in emotionally charged situations\, with hig
 h stakes and when the situation requires sensitivity to the human element.
 \n\nClients\, audiences and students alike find Scott’s teachings insigh
 tful\, inspiring and pragmatic.\n\nDate: Feb 8\, 2024\nTime: 03:00 PM ET\n
 \nREGISTER HERE!
ATTACH;FMTTYPE=image/jpeg:https://acu-connect.com/wp-content/uploads/2024/
 02/INFLUENCE-and-NEGOTIATION.png
CATEGORIES:Webinar
LOCATION:https://us06web.zoom.us/webinar/register/WN_c4eSpB-iT9qK5b296Kp3cA
 #/registration
END:VEVENT
BEGIN:VTIMEZONE
TZID:America/New_York
X-LIC-LOCATION:America/New_York
BEGIN:STANDARD
DTSTART:20231105T010000
TZOFFSETFROM:-0400
TZOFFSETTO:-0500
TZNAME:EST
END:STANDARD
END:VTIMEZONE
END:VCALENDAR