BEGIN:VCALENDAR
VERSION:2.0
PRODID:-//wp-events-plugin.com//7.2.3.1//EN
TZID:America/Phoenix
X-WR-TIMEZONE:America/Phoenix
BEGIN:VEVENT
UID:41@acu-connect.com
DTSTART;TZID=America/New_York:20220505T160000
DTEND;TZID=America/New_York:20220505T170000
DTSTAMP:20230830T163759Z
URL:https://acu-connect.com/events/acu-connect-fiesta-happy-hour/
SUMMARY:acu-connect Fiesta Happy Hour
DESCRIPTION:Hang out with the acu-connect community – Fiesta Style!\n\nJ
 oin the acu-connect team along with fellow Acumatica users\, partners\, I
 SVs\, and other acu-connect community members for an interactive\, inform
 ative\, and light-hearted get together.\n\nOur Cinco de Mayo topics incl
 ude:\n\n• Acumatica 2022 R1 Enhancements\n• Today’s top business cha
 llenges and how our community is addressing them\n• acu-connect plans an
 d learning opportunities for 2022\n\n...and there are some great giveaways
  for Acumatica customers and partners! (see details below)\n\nDon’t mis
 s this chance to connect. See you then – and ¡Olé!\n\n&nbsp\;\n\nDat
 e: May 5\, 2022\n\nTime: 4PM EST\n\nREGISTRATION\n\n&nbsp\;\n\nHAPPY HOU
 R GIVEAWAYS!\n• EBizCharge will give away $20 Visa gift cards to the fi
 rst 20 registered Acumatica customer and partners!\n• LeaseQuery will pr
 ovide $15 Chipotle gift cards to all customers and partners!\n• Netstoc
 k will select three attendees at random to receive a margarita drink kit!
ATTACH;FMTTYPE=image/jpeg:https://acu-connect.com/wp-content/uploads/2023/
 08/img-acu-event-acu-connect-fiesta-happy-hour.png
CATEGORIES:Webinar
LOCATION:https://acu-connect.com/acu-connect-fiesta-happy-hour/
END:VEVENT
BEGIN:VTIMEZONE
TZID:America/New_York
X-LIC-LOCATION:America/New_York
BEGIN:DAYLIGHT
DTSTART:20220313T030000
TZOFFSETFROM:-0500
TZOFFSETTO:-0400
TZNAME:EDT
END:DAYLIGHT
END:VTIMEZONE
END:VCALENDAR