BEGIN:VCALENDAR
VERSION:2.0
PRODID:-//wp-events-plugin.com//7.2.3.1//EN
TZID:America/Phoenix
X-WR-TIMEZONE:America/Phoenix
BEGIN:VEVENT
UID:48@acu-connect.com
DTSTART;TZID=America/New_York:20220712T160000
DTEND;TZID=America/New_York:20220712T170000
DTSTAMP:20230830T234724Z
URL:https://acu-connect.com/events/acu-connect-qa-session/
SUMMARY:acu-connect Q&A Session
DESCRIPTION:Join members of the acu-connect team who will discuss what's co
 ming up next for the acu-connect community\, acuCONNECT 2022\, and field y
 our questions about how to get more involved\, sponsor\, and present at th
 e event.\n\nHere's our line-up of speakers:\n\n 	Darcy Boerio - President 
 of DAB Partners and acu-connect Board Member\n 	Aimee Keenan - Founder - T
 he ISV Society and acu-connect Board Member\n\nDon't miss this opportunity
  to get your questions answered and to learn more about acuCONNECT 2022\, 
 register for the acu-connect Q&amp\;A session today!\n\nDate: July 12\, 20
 22\n\nTime: 4:00 EDT\n\n&nbsp\;\n\nWATCH RECORDED WEBINAR NOW\n\n&nbsp\;
ATTACH;FMTTYPE=image/jpeg:https://acu-connect.com/wp-content/uploads/2023/
 08/img-acu-event-acu-connect-qanda.jpg
CATEGORIES:Webinar
LOCATION:https://acu-connect.com/recorded-webinars/acu-connect-qa-session/
END:VEVENT
BEGIN:VTIMEZONE
TZID:America/New_York
X-LIC-LOCATION:America/New_York
BEGIN:DAYLIGHT
DTSTART:20220313T030000
TZOFFSETFROM:-0500
TZOFFSETTO:-0400
TZNAME:EDT
END:DAYLIGHT
END:VTIMEZONE
END:VCALENDAR