BEGIN:VCALENDAR
VERSION:2.0
PRODID:-//wp-events-plugin.com//7.2.3.1//EN
TZID:America/Phoenix
X-WR-TIMEZONE:America/Phoenix
BEGIN:VEVENT
UID:30@acu-connect.com
DTSTART;TZID=America/New_York:20230316T160000
DTEND;TZID=America/New_York:20230316T170000
DTSTAMP:20230808T041644Z
URL:https://acu-connect.com/events/acu-connect-virtual-happy-hour-march-20
 23/
SUMMARY:acu-connect Virtual Happy Hour - March 2023
DESCRIPTION:Come Raise Your Glass with the acu-connect Community!\n\n\n\nJo
 in the acu-connect team along with other members of the acu-connect commun
 ity for an interactive\, informative\, and light-hearted get together.\n\n
 There is no formal agenda\, no demo\, and certainly no recording. Just so
 me informative and light-hearted conversation.\n\nSo don’t miss this opp
 ortunity to connect with others in the acu-connect community – register
  today!\n\n&nbsp\;\n\nDate: March 16\, 2023\nTime: 4PM EST\n\nREGISTRATI
 ON\n\n\n
ATTACH;FMTTYPE=image/jpeg:https://acu-connect.com/wp-content/uploads/2023/
 08/img-acu-event-happy-hour-march-2023.jpg
CATEGORIES:Webinar
LOCATION:https://acu-connect.com/acu-connect-virtual-happy-hour-march-16-20
 23/
END:VEVENT
BEGIN:VTIMEZONE
TZID:America/New_York
X-LIC-LOCATION:America/New_York
BEGIN:DAYLIGHT
DTSTART:20230312T030000
TZOFFSETFROM:-0500
TZOFFSETTO:-0400
TZNAME:EDT
END:DAYLIGHT
END:VTIMEZONE
END:VCALENDAR