BEGIN:VCALENDAR
VERSION:2.0
PRODID:-//wp-events-plugin.com//7.2.3.1//EN
TZID:America/Phoenix
X-WR-TIMEZONE:America/Phoenix
BEGIN:VEVENT
UID:79@acu-connect.com
DTSTART;TZID=America/Los_Angeles:20231214T160000
DTEND;TZID=America/Los_Angeles:20231214T170000
DTSTAMP:20231227T123812Z
URL:https://acu-connect.com/events/acu-connect-virtual-holiday-social/
SUMMARY:acu-connect Virtual Holiday Social
DESCRIPTION:Virtual Holiday Social\nJoin the acu-connect community for a fe
 stive\, light-hearted\, casual holiday get-together!\n\nEnjoy the opportun
 ity for fun while networking with other Acumatica users and experts during
  our annual virtual holiday event.\n\nTopics for discussion include (but 
 aren’t limited to):\n\n 	Plans for Acumatica Summit in January\n 	Busine
 ss challenges Acumatica users face — such as technology\, supply chain\,
  labor shortages\n 	Enhancements “wish list”\n 	Whatever else is on yo
 ur mind!\n\nAlso\, if you wear something festive you could win a prize.\n
 \nDate: December 14\, 2023\nTime: 4 PM ET\n\nREGISTER NOW
ATTACH;FMTTYPE=image/jpeg:https://acu-connect.com/wp-content/uploads/2023/
 12/acu-connect-Virtual-Holiday-Social-2023.png
CATEGORIES:Webinar
LOCATION:https://acu-connect.com/virtual-holiday-social/
END:VEVENT
BEGIN:VTIMEZONE
TZID:America/Los_Angeles
X-LIC-LOCATION:America/Los_Angeles
BEGIN:STANDARD
DTSTART:20231105T010000
TZOFFSETFROM:-0700
TZOFFSETTO:-0800
TZNAME:PST
END:STANDARD
END:VTIMEZONE
END:VCALENDAR