BEGIN:VCALENDAR
VERSION:2.0
PRODID:-//wp-events-plugin.com//7.2.3.1//EN
TZID:America/Phoenix
X-WR-TIMEZONE:America/Phoenix
BEGIN:VEVENT
UID:43@acu-connect.com
DTSTART;TZID=America/New_York:20220914T110000
DTEND;TZID=America/New_York:20220915T170000
DTSTAMP:20230830T163407Z
URL:https://acu-connect.com/events/acuconnect-2022/
SUMMARY:acuCONNECT 2022
DESCRIPTION:Join Us for acuCONNECT 2022!\n\n\n\nacuCONNECT 2022 is our thir
 d-annual virtual conference that focuses exclusively on Acumatica Cloud ER
 P customers and partners!\n\nJoin us on September 14-15 for your chance 
 to:\n\n 	Learn from experts\, solution providers\, and other users how to
  get the most from Acumatica\n 	Share your knowledge about how you use Ac
 umatica to manage your business\n 	Connect with other acu-connect communi
 ty members and experts\n\nDon’t miss this incredible opportunity to lea
 rn more about Acumatica Cloud ERP – not to mention the chance to win pr
 izes\, have fun\, and it’s FREE thanks to the generous support of our s
 ponsors!\n\nWhen: September 14 - 15\n\nTime: 9:00 AM - 5:oo PM EST\n\n\n&n
 bsp\;\n\nREGISTRATION\n\n
ATTACH;FMTTYPE=image/jpeg:https://acu-connect.com/wp-content/uploads/2023/
 08/img-acu-acuconnect-2022.jpg
CATEGORIES:Virtual Conference
LOCATION:https://hopin.com/events/acuconnect2022/registration
END:VEVENT
BEGIN:VTIMEZONE
TZID:America/New_York
X-LIC-LOCATION:America/New_York
BEGIN:DAYLIGHT
DTSTART:20220313T030000
TZOFFSETFROM:-0500
TZOFFSETTO:-0400
TZNAME:EDT
END:DAYLIGHT
END:VTIMEZONE
END:VCALENDAR