BEGIN:VCALENDAR
VERSION:2.0
PRODID:-//wp-events-plugin.com//7.2.3.1//EN
TZID:America/Phoenix
X-WR-TIMEZONE:America/Phoenix
BEGIN:VEVENT
UID:89@acu-connect.com
DTSTART;TZID=America/New_York;VALUE=DATE:20240912
DTEND;TZID=America/New_York;VALUE=DATE:20240914
DTSTAMP:20250416T135453Z
URL:https://acu-connect.com/events/acuconnect-2024/
SUMMARY:acuCONNECT 2024
DESCRIPTION:Mark your calendars! acuCONNECT\, the Virtual Conference for Ac
 umatica Customers and Partners\, returns September 12-13\, 2024.\n\nacuCON
 NECT 2024 is our fifth annual virtual conference and focuses exclusively o
 n Acumatica Cloud ERP customers and partners!\n\nParticipants will have th
 e opportunity to:\n\n 	Learn from experts\, solution providers\, and other
  users how to get the most from Acumatica\n 	Share their knowledge about h
 ow they used Acumatica to manage their businesses\n 	Connect with other ac
 u-connect community members and experts\n\nThis is an incredible opportuni
 ty to discover how businesses can get even more out of Acumatica Cloud ERP
 . Additionally\, attendees will have the chance to win prizes and have fun
 ...and it is FREE thanks to the generous support of our sponsors!
ATTACH;FMTTYPE=image/jpeg:https://acu-connect.com/wp-content/uploads/2024/
 06/acu-connect-2024-conference.png
CATEGORIES:Virtual Conference
LOCATION:https://events.ringcentral.com/events/acuconnect-2024/registration
END:VEVENT
BEGIN:VTIMEZONE
TZID:America/New_York
X-LIC-LOCATION:America/New_York
BEGIN:DAYLIGHT
DTSTART:20240310T030000
TZOFFSETFROM:-0500
TZOFFSETTO:-0400
TZNAME:EDT
END:DAYLIGHT
END:VTIMEZONE
END:VCALENDAR