BEGIN:VCALENDAR
VERSION:2.0
PRODID:-//wp-events-plugin.com//7.2.3.1//EN
TZID:America/Phoenix
X-WR-TIMEZONE:America/Phoenix
BEGIN:VEVENT
UID:182@acu-connect.com
DTSTART;TZID=America/New_York;VALUE=DATE:20250918
DTEND;TZID=America/New_York;VALUE=DATE:20250920
DTSTAMP:20250802T000013Z
URL:https://acu-connect.com/events/acuconnect-2025/
SUMMARY:acuCONNECT 2025
DESCRIPTION:Mark your calendars! acuCONNECT\, the Virtual Conference for Ac
 umatica Customers and Partners\, returns September 18-19\, 2025.\n\nacuCON
 NECT 2025 is our sixth annual virtual conference and focuses exclusively o
 n Acumatica Cloud ERP customers and partners!\n\nParticipants will have th
 e opportunity to:\n\n 	Learn from experts\, solution providers\, and other
  users how to get the most from Acumatica\n 	Share their knowledge about h
 ow they used Acumatica to manage their businesses\n 	Connect with other ac
 u-connect community members and experts\n\nThis is an incredible opportuni
 ty to discover how businesses can get even more out of Acumatica Cloud ERP
 . Additionally\, attendees will have the chance to win prizes and have fun
 ...and it is FREE thanks to the generous support of our sponsors!
ATTACH;FMTTYPE=image/jpeg:https://acu-connect.com/wp-content/uploads/2025/
 06/general-conference-graphic.jpg
CATEGORIES:Virtual Conference
LOCATION:https://registration.events.ringcentral.com/widgets/registration/a
 cuconnect-2025-acb59098-cfa1-4da6-989c-80e158e622dd?widget_id=Y7Bso2M2t4GA
 euXzyMl6MXSqS
END:VEVENT
BEGIN:VTIMEZONE
TZID:America/New_York
X-LIC-LOCATION:America/New_York
BEGIN:DAYLIGHT
DTSTART:20250309T030000
TZOFFSETFROM:-0500
TZOFFSETTO:-0400
TZNAME:EDT
END:DAYLIGHT
END:VTIMEZONE
END:VCALENDAR