BEGIN:VCALENDAR
VERSION:2.0
PRODID:-//wp-events-plugin.com//7.2.3.1//EN
TZID:America/Phoenix
X-WR-TIMEZONE:America/Phoenix
BEGIN:VEVENT
UID:215@acu-connect.com
DTSTART;TZID=America/New_York:20260423T160000
DTEND;TZID=America/New_York:20260423T170000
DTSTAMP:20260314T040157Z
URL:https://acu-connect.com/events/acuconnections-hour-spring-fling/
SUMMARY:acuCONNECTions Hour: Spring Fling Virtual Networking
DESCRIPTION:Take a break from your workday and join us for a relaxed hour o
 f games\, conversation\, and connection. Our Spring Fling is a chance to s
 tep away from the inbox\, catch up with familiar faces\, and meet a few ne
 w ones across the community.\n\nWhy Join:\n\n- Connect with others in the 
 community\n- Enjoy a few light\, interactive games together\n- Have real c
 onversations and share a few laughs\n- Meet people you may not normally cr
 oss paths with\n\nNo pressure\, no agenda. Just a casual way to connect an
 d unwind.\n\nWe hope you’ll join us!\n\nRegister Now
ATTACH;FMTTYPE=image/jpeg:https://acu-connect.com/wp-content/uploads/2026/
 03/acuconnection-hour-spring-fling-event-page-image.png
CATEGORIES:Virtual Conference
LOCATION:https://us06web.zoom.us/meeting/register/7WmukquMSuiOJ5v0dsTl0A#/r
 egistration
END:VEVENT
BEGIN:VTIMEZONE
TZID:America/New_York
X-LIC-LOCATION:America/New_York
BEGIN:DAYLIGHT
DTSTART:20260308T030000
TZOFFSETFROM:-0500
TZOFFSETTO:-0400
TZNAME:EDT
END:DAYLIGHT
END:VTIMEZONE
END:VCALENDAR