BEGIN:VCALENDAR
VERSION:2.0
PRODID:-//wp-events-plugin.com//7.2.3.1//EN
TZID:America/Phoenix
X-WR-TIMEZONE:America/Phoenix
BEGIN:VEVENT
UID:35@acu-connect.com
DTSTART;TZID=America/Los_Angeles:20220429T100000
DTEND;TZID=America/Los_Angeles:20220429T110000
DTSTAMP:20230830T235205Z
URL:https://acu-connect.com/events/acumatica-2022-r1-tips-tricks/
SUMMARY:Acumatica 2022 R1 Tips & Tricks
DESCRIPTION:Find Out What's New in Acumatica R1 2022\nJoin Dennis Easter fr
 om Algorithm Inc as he shares his tips\, tricks\, and new features for Acu
 matica R1 2022.\n\nTopics include:\n\n• Marketplace integration\n• Mob
 ile app updates\n• Blanket sales orders\n• Manufacturing control point
 s\n\nDon’t miss out! Reserve your spot today.\n\nDate: April 29\, 2022\n
 \nTime: 10:00 AM PT - 11:00 AM PT\n\n&nbsp\;\n\nWATCH RECORDED WEBINAR NOW
 \n\n&nbsp\;
ATTACH;FMTTYPE=image/jpeg:https://acu-connect.com/wp-content/uploads/2023/
 08/img-acu-event-acuconnect-acumatica-2022-r1-tips-and-tricks.png
CATEGORIES:Webinar
LOCATION:https://acu-connect.com/recorded-webinars/acumatica-2022-r1-tips-t
 ricks-presented-algorithm/
END:VEVENT
BEGIN:VTIMEZONE
TZID:America/Los_Angeles
X-LIC-LOCATION:America/Los_Angeles
BEGIN:DAYLIGHT
DTSTART:20220313T030000
TZOFFSETFROM:-0800
TZOFFSETTO:-0700
TZNAME:PDT
END:DAYLIGHT
END:VTIMEZONE
END:VCALENDAR