BEGIN:VCALENDAR
VERSION:2.0
PRODID:-//wp-events-plugin.com//7.2.3.1//EN
TZID:America/Phoenix
X-WR-TIMEZONE:America/Phoenix
BEGIN:VEVENT
UID:53@acu-connect.com
DTSTART;TZID=America/New_York:20220922T130000
DTEND;TZID=America/New_York:20220922T150000
DTSTAMP:20230829T220107Z
URL:https://acu-connect.com/events/acumatica-2022-r2-virtual-launch-event/
SUMMARY:Acumatica 2022 R2 Virtual Launch Event
DESCRIPTION:Register today for the Acumatica 2022 R2 Virtual Event. It’s 
 an opportunity to learn more about the new features and functionalities fo
 und in the latest release and how they are designed to help businesses pro
 sper even in uncertain times.\n\nREGISTRATION\n\n&nbsp\;
ATTACH;FMTTYPE=image/jpeg:https://acu-connect.com/wp-content/uploads/2023/
 08/img-acu-event-acumatica-2022-r2-launch-event.png
CATEGORIES:Webinar
LOCATION:https://gateway.on24.com/wcc/eh/2183858/acumatica-2022-r2-virtual-
 launch
END:VEVENT
BEGIN:VTIMEZONE
TZID:America/New_York
X-LIC-LOCATION:America/New_York
BEGIN:DAYLIGHT
DTSTART:20220313T030000
TZOFFSETFROM:-0500
TZOFFSETTO:-0400
TZNAME:EDT
END:DAYLIGHT
END:VTIMEZONE
END:VCALENDAR