BEGIN:VCALENDAR
VERSION:2.0
PRODID:-//wp-events-plugin.com//7.2.3.1//EN
TZID:America/Phoenix
X-WR-TIMEZONE:America/Phoenix
BEGIN:VEVENT
UID:44@acu-connect.com
DTSTART;TZID=America/New_York:20220614T130000
DTEND;TZID=America/New_York:20220614T140000
DTSTAMP:20230830T163821Z
URL:https://acu-connect.com/events/acumatica-community-meetup-distribution
 -show-tell-dashboards/
SUMMARY:Acumatica Community Meetup: Distribution Show & Tell - Dashboards
DESCRIPTION:Acumatica Community Meetup: Distribution Show &amp\; Tell - Das
 hboards\nJoin other Acumatica customers for the next Show &amp\; Tell even
 t and see some of the valuable ways others have configured dashboards in A
 cumatica.\n\nThe first Show &amp\; Tell event on Side Panels was a success
 … all participants gave great feedback - so you won’t want to miss thi
 s one.\n\nWe are looking for Acumatica customers who are willing to share 
 one or more of the dashboards that met the business needs of their users.
   Don’t worry\, it's very informal\, and we will guide you. If you are 
 interested in sharing\, reach out to Debra Mignola at Acumatica: debra.mig
 nola@acumatica.com.\n\nDate: June 14\, 2022\n\nTime: 1:00 PM EST\n\n&nbsp\
 ;\n\nREGISTRATION
ATTACH;FMTTYPE=image/jpeg:https://acu-connect.com/wp-content/uploads/2023/
 08/img-acu-event-acuconnect-community-meetup-dashboards.png
CATEGORIES:Webinar
LOCATION:https://teams.microsoft.com/registration/NoGlW-PIS0-FeX5JouMjnA,9R
 sYrChAqUGdJQlCuRsSVA,y6glKot4hEaoEuzAWQX8qg,bHau8kvyVUCGsVvUBVRyRQ,XC9Oh93
 A9EWOBkdlawc5DA,MAQjo6RYuUmNeRXpiEaYwQ?mode=read&tenantId=5ba58136-c8e3-4f
 4b-8579-7e49a2e3239c
END:VEVENT
BEGIN:VTIMEZONE
TZID:America/New_York
X-LIC-LOCATION:America/New_York
BEGIN:DAYLIGHT
DTSTART:20220313T030000
TZOFFSETFROM:-0500
TZOFFSETTO:-0400
TZNAME:EDT
END:DAYLIGHT
END:VTIMEZONE
END:VCALENDAR