BEGIN:VCALENDAR
VERSION:2.0
PRODID:-//wp-events-plugin.com//7.2.3.1//EN
TZID:America/Phoenix
X-WR-TIMEZONE:America/Phoenix
BEGIN:VEVENT
UID:187@acu-connect.com
DTSTART;TZID=America/New_York:20251001T130000
DTEND;TZID=America/New_York:20251001T143000
DTSTAMP:20250913T141300Z
URL:https://acu-connect.com/events/acumatica-demo-day-oct/
SUMMARY:Acumatica Demo Day
DESCRIPTION:Who’s hungry for ideas?\n\nThink of Demo Day as your shortcut
  to innovation. On Oct 1\, you’ll get S’more Ideas\, S’more Solution
 s as 10 ISVs demo their solutions in one focused session\, giving you a br
 oad view of the Acumatica ecosystem without the hassle of scheduling separ
 ate demos.\n\nAnd here’s the sweet part: stay for the entire event and y
 ou’ll be entered in a drawing to win a fire pit—perfect for roasting s
 ’mores this fall.\n\nDon’t miss it.\n\nWhen: October 1\, 2025\n\nTime:
  1:00 PM ET\n\nREGISTER NOW
ATTACH;FMTTYPE=image/jpeg:https://acu-connect.com/wp-content/uploads/2025/
 09/demo-day-social-2.png
CATEGORIES:Webinar
LOCATION:https://us06web.zoom.us/webinar/register/8917567260339/WN_CKSiwsSr
 THGYrYTdbkBOjA
END:VEVENT
BEGIN:VTIMEZONE
TZID:America/New_York
X-LIC-LOCATION:America/New_York
BEGIN:DAYLIGHT
DTSTART:20250309T030000
TZOFFSETFROM:-0500
TZOFFSETTO:-0400
TZNAME:EDT
END:DAYLIGHT
END:VTIMEZONE
END:VCALENDAR