BEGIN:VCALENDAR
VERSION:2.0
PRODID:-//wp-events-plugin.com//7.2.3.1//EN
TZID:America/Phoenix
X-WR-TIMEZONE:America/Phoenix
BEGIN:VEVENT
UID:124@acu-connect.com
DTSTART;TZID=America/New_York:20240925T130000
DTEND;TZID=America/New_York:20240925T150000
DTSTAMP:20240918T233031Z
URL:https://acu-connect.com/events/acumatica-demo-day-september-2024/
SUMMARY:Acumatica Demo Day
DESCRIPTION:You're invited to Acumatica Demo Day on September 25\, hosted b
 y The ISV Society. In this 2 hour session\, you’ll gain access to the la
 test tools and solutions from industry-leading ISVs\, all designed to opti
 mize your business processes.\n\nWhy spend hours researching and watching 
 demos on your own when you can see them all in one place?\n\nEach ISV will
  provide a 15-minute demo\, showing you exactly how their integration with
  Acumatica can save you time\, increase efficiency\, and propel your busin
 ess forward.\n\nHere’s the line-up:\n\n 	Blue Moon: Master retail charge
 backs with ease using their ChargeBack Processing solution.\n 	Yooz: Seaml
 essly streamline your purchase-to-payment processes with Yooz’s Acumatic
 a integration.\n 	CADTalk: Speed up your design-to-production process by i
 ntegrating CAD systems with Acumatica.\n 	Aldrich: Discover ecommerce solu
 tions built for distributors with deep Acumatica integration.\n 	Dynamic B
 udgets: Empower your non-financial staff to simplify budgeting without rel
 ying on Excel.\n 	Solver: Unlock better decision-making through integrated
  financial planning and analysis (xFP&amp\;A).\n 	Avalara: Automate your t
 ax compliance processes to handle complex tax scenarios effortlessly.\n 	k
 -ecommerce: Experience ecommerce tailored for B2B\, built to seamlessly in
 tegrate with Acumatica.\n\nWith everything you need to know in one session
 \, this Demo Day is the ultimate time-saver!\n\nDate: September 25\, 2024\
 nTime: 1 PM - 3 PM ET
ATTACH;FMTTYPE=image/jpeg:https://acu-connect.com/wp-content/uploads/2024/
 09/acumatica-demo-day-september-2024-featured.jpg
CATEGORIES:Webinar
LOCATION:https://us06web.zoom.us/webinar/register/WN_g6mIyL_PSUqyknbIvO-5_w
END:VEVENT
BEGIN:VTIMEZONE
TZID:America/New_York
X-LIC-LOCATION:America/New_York
BEGIN:DAYLIGHT
DTSTART:20240310T030000
TZOFFSETFROM:-0500
TZOFFSETTO:-0400
TZNAME:EDT
END:DAYLIGHT
END:VTIMEZONE
END:VCALENDAR