BEGIN:VCALENDAR
VERSION:2.0
PRODID:-//wp-events-plugin.com//7.2.3.1//EN
TZID:America/Phoenix
X-WR-TIMEZONE:America/Phoenix
BEGIN:VEVENT
UID:57@acu-connect.com
DTSTART;TZID=America/Phoenix:20221018T100000
DTEND;TZID=America/Phoenix:20221018T103000
DTSTAMP:20230829T222608Z
URL:https://acu-connect.com/events/acumatica-making-better-business-decisi
 ons/
SUMMARY:Acumatica: Making Better Business Decisions
DESCRIPTION:When was the last time you looked at an Acumatica report and th
 ought:\n\n“This report tells me what’s going on in my business\, but i
 t doesn’t tell me why.”\n\nYour Acumatica data has the answers to your
  questions . . . so why can't you easily get them? Why can't you ask Acuma
 tica a question in plain English and get an instant answer? And since you 
 know what reports you need (and when)\, why can't you just automate them?\
 n\nThis free\, 30-minute webinar will introduce you to Analytical reportin
 g – reports driven by affordable business intelligence (BI) technologies
  that give you insight into why your business is performing as it is\, and
  what you can do to improve it by making the most well-informed business d
 ecisions.\n\nThe webinar will include a live product demo and an attendee 
 coupon for orders placed by 12/31/2022.\n\nAudience: Decision makers &amp\
 ; business analysts\n\nPresenters:\n- Joni Girardi: DataSelf Founder\, CEO
 \, &amp\; self-proclaimed 'Data Geek'\n- Don Farber: DataSelf Industry Ana
 lyst\n\n&nbsp\;\n\nREGISTRATION
ATTACH;FMTTYPE=image/jpeg:https://acu-connect.com/wp-content/uploads/2023/
 08/img-event-dataself-making-better-business-decisions.png
CATEGORIES:Webinar
LOCATION:https://us02web.zoom.us/webinar/register/WN_0iGG2z5gR5ShqmL1WcyI_Q
END:VEVENT
BEGIN:VTIMEZONE
TZID:America/Phoenix
X-LIC-LOCATION:America/Phoenix
BEGIN:STANDARD
DTSTART:20211018T100000
TZOFFSETFROM:-0700
TZOFFSETTO:-0700
TZNAME:MST
END:STANDARD
END:VTIMEZONE
END:VCALENDAR