BEGIN:VCALENDAR
VERSION:2.0
PRODID:-//wp-events-plugin.com//7.2.3.1//EN
TZID:America/Phoenix
X-WR-TIMEZONE:America/Phoenix
BEGIN:VEVENT
UID:101@acu-connect.com
DTSTART;TZID=America/New_York:20240523T130000
DTEND;TZID=America/New_York:20240523T140000
DTSTAMP:20240512T133637Z
URL:https://acu-connect.com/events/acumatica-panel-discussion-building-a-r
 esilient-distribution-strategy/
SUMMARY:Acumatica Panel Discussion: Building a Resilient Distribution Strat
 egy
DESCRIPTION:In today's competitive landscape\, distributors need to optimiz
 e operations and leverage technology for sustainable growth. Join our Acum
 atica panel discussion and discover how to overcome challenges and achieve
  success.\n\nOur expert panelists will discuss:\n\n 	Key distribution chal
 lenges in today's market\n 	Strategies for optimal inventory levels and ex
 ceptional customer service with Acumatica's DRP\, NetStock\, and reporting
  tools\n 	How to ensure accurate inventory data and a smooth transition to
  a Warehouse Management System (WMS)\n 	Mastering the complexities of omni
 -channel distribution with Acumatica's integrated solutions\n\nPresenters:
 \nKelly Squizzero\, Senior Product Manager\, Acumatica\nPhillip E Marotta\
 , CPA | Senior Acumatica Consultant\, DSD Business Systems\nKaren Wainwrig
 ht\, Channel Account Manager\, Netstock\n\nHost: David Gersten\, Sr Mgr\, 
 Emerging Partner Ecosystems\, Paystand\nSponsor - Netstock\n\nDate: May 23
 \, 2024\nTime: 1 PM ET
ATTACH;FMTTYPE=image/jpeg:https://acu-connect.com/wp-content/uploads/2024/
 05/acumatica-panel-discussion-building-a-resilient-distribution-strategy-f
 eatured.png
CATEGORIES:Webinar
LOCATION:https://us06web.zoom.us/webinar/register/WN_8mHE3JFaT-OCBrFpMATBTQ
END:VEVENT
BEGIN:VTIMEZONE
TZID:America/New_York
X-LIC-LOCATION:America/New_York
BEGIN:DAYLIGHT
DTSTART:20240310T030000
TZOFFSETFROM:-0500
TZOFFSETTO:-0400
TZNAME:EDT
END:DAYLIGHT
END:VTIMEZONE
END:VCALENDAR