BEGIN:VCALENDAR
VERSION:2.0
PRODID:-//wp-events-plugin.com//7.2.3.1//EN
TZID:America/Phoenix
X-WR-TIMEZONE:America/Phoenix
BEGIN:VEVENT
UID:4@acu-connect.com
DTSTART;VALUE=DATE:20240128
DTEND;VALUE=DATE:20240201
DTSTAMP:20230804T032430Z
URL:https://acu-connect.com/events/acumatica-summit-2024/
SUMMARY:Acumatica Summit 2024
DESCRIPTION:Mark your calendar and save the date! You don’t want to miss 
 Acumatica Summit 2024!\n\nAcumatica Summit returns on January 28-31\, 202
 4 at the Wynn Las Vegas. Join Acumatica and the larger Acumatica communit
 y to celebrate\, to discover new features\, and to imagine the future of t
 echnology.\n\nDate: January 28\, 2024 – January 31\, 2024\n\nLocation:
  Wynn Las Vegas\n\nREGISTER TODAY
ATTACH;FMTTYPE=image/jpeg:https://acu-connect.com/wp-content/uploads/2023/
 08/img-acu-event-summit-2024-800x600-1.jpg
CATEGORIES:Live Conference
LOCATION:Wynn Las Vegas\, 3131 S. Las Vegas Blvd\, Las Vegas\, NV\, 89109\,
  United States
X-APPLE-STRUCTURED-LOCATION;VALUE=URI;X-ADDRESS=3131 S. Las Vegas Blvd\, La
 s Vegas\, NV\, 89109\, United States;X-APPLE-RADIUS=100;X-TITLE=Wynn Las V
 egas:geo:0,0
END:VEVENT
END:VCALENDAR