BEGIN:VCALENDAR
VERSION:2.0
PRODID:-//wp-events-plugin.com//7.2.3.1//EN
TZID:America/Phoenix
X-WR-TIMEZONE:America/Phoenix
BEGIN:VEVENT
UID:27@acu-connect.com
DTSTART;TZID=America/New_York:20230413T130000
DTEND;TZID=America/New_York:20230413T140000
DTSTAMP:20230808T035839Z
URL:https://acu-connect.com/events/acumatica-summit-encore-top-benefits-of
 -automating-tax-compliance-in-your-acumatica-cloud-erp/
SUMMARY:Acumatica Summit Encore: Top Benefits of Automating Tax Compliance 
 in Your Acumatica Cloud ERP
DESCRIPTION:As manufacturers increasingly adopt B2B and D2C sales models\, 
 many will struggle with highly complex and evolving tax regulations and co
 mpliance. But there is a solution\, and it all comes down to technology an
 d automation.\n\nCombining Acumatica ERP with Avalara tax compliance creat
 es a complete ERP and tax engine solution enabling sustainable B2B and D2C
  sales success.\n\nAvalara and Acumatica are hosting an encore webinar div
 ing back into our Acumatica Summit session for those of you that missed it
  or would like a refresher. We’ll discuss some of the benefits of tax co
 mpliance automation for Acumatica users and dive into the key functionalit
 y that will save your business time so you can drive more revenue incentiv
 es.\n\nDate: April 13\, 2023\n\nTime: 10:00 am PST/ 1:00 pm EST\n\nREGISTR
 ATION
ATTACH;FMTTYPE=image/jpeg:https://acu-connect.com/wp-content/uploads/2023/
 08/img-acu-event-avalara-acumatica-summit-encore.jpg
CATEGORIES:Webinar
LOCATION:https://avalara.zoom.us/webinar/register/1016806248282/WN_B2aa-Fey
 T8CXcxsFpZO2cg
END:VEVENT
BEGIN:VTIMEZONE
TZID:America/New_York
X-LIC-LOCATION:America/New_York
BEGIN:DAYLIGHT
DTSTART:20230312T030000
TZOFFSETFROM:-0500
TZOFFSETTO:-0400
TZNAME:EDT
END:DAYLIGHT
END:VTIMEZONE
END:VCALENDAR