BEGIN:VCALENDAR
VERSION:2.0
PRODID:-//wp-events-plugin.com//7.2.3.1//EN
TZID:America/Phoenix
X-WR-TIMEZONE:America/Phoenix
BEGIN:VEVENT
UID:71@acu-connect.com
DTSTART;TZID=America/Los_Angeles:20231025T110000
DTEND;TZID=America/Los_Angeles:20231025T113000
DTSTAMP:20231227T120542Z
URL:https://acu-connect.com/events/ai-powered-accounting-5-tools-you-cant-
 do-without/
SUMMARY:AI-Powered Accounting: 5 Tools You Can't Do Without!
DESCRIPTION:AI in accounting has grown by 67% in the past year alone\, and 
 its potential to transform the accounting industry is undeniable.\nBut it
 ’s not just a tool for the C-suite. AI has the potential to revolutioniz
 e the way you do everything from processing invoices to communicating with
  vendors and customers.\nSo what can AI do for you RIGHT NOW? You will be 
 awestruck about the tasks you can simplify by using different AI engines c
 reated for specific tasks. And you don’t have to be an AI expert at all 
 to take advantage of them.\nJoin us to learn about\, and see in action\, 5
  ways AI can save you time on specific tasks such as:\n\n\n 	Summarizing c
 onfusing documents (think new tax codes)\n 	Creating reports and PPT prese
 ntations quickly\n 	Developing interactive training materials and educatio
 nal resources\n 	Identifying the most economical supplier for items\n 	Con
 structing more succinct communications to vendors\, customers\, etc.\n\nYo
 ur future with AI can be NOW\, you’ll walk away from this session with s
 pecific tools you can access and use immediately.\nDate: Oct 25\, 2023\n\n
 Time: 2:00 PM ET/ 11:00 AM PT\n\nREGISTER NOW\n\n&nbsp\;
ATTACH;FMTTYPE=image/jpeg:https://acu-connect.com/wp-content/uploads/2023/
 12/AI-powered-Accounting.jpg
CATEGORIES:Webinar
LOCATION:https://attendee.gotowebinar.com/register/8826235465520854366?sour
 ce=acu-connect
END:VEVENT
BEGIN:VTIMEZONE
TZID:America/Los_Angeles
X-LIC-LOCATION:America/Los_Angeles
BEGIN:DAYLIGHT
DTSTART:20230312T030000
TZOFFSETFROM:-0800
TZOFFSETTO:-0700
TZNAME:PDT
END:DAYLIGHT
END:VTIMEZONE
END:VCALENDAR