BEGIN:VCALENDAR
VERSION:2.0
PRODID:-//wp-events-plugin.com//7.2.3.1//EN
TZID:America/Phoenix
X-WR-TIMEZONE:America/Phoenix
BEGIN:VEVENT
UID:45@acu-connect.com
DTSTART;TZID=America/New_York:20220623T130000
DTEND;TZID=America/New_York:20220623T140000
DTSTAMP:20230830T234845Z
URL:https://acu-connect.com/events/ama-ask-me-anything-webinar-connecting-
 your-ecommerce-platform-with-acumatica/
SUMMARY:AMA (Ask Me Anything) Webinar - Connecting your eCommerce Platform 
 with Acumatica
DESCRIPTION:eCommerce is no longer a nice to have\, it’s a necessity. Cus
 tomers expect to place orders\, check the status of existing orders\, and 
 to get a wholistic view of their account - 24/7. Luckily\, with Acumatica 
 Cloud ERP you have the foundation in place to provide customers with the t
 rue omni-channel experience they expect.\n\nJoin us for our upcoming webin
 ar during which Chris Joco\, Principal Solutions Architect at DSD Business
  Systems\, and Nicole Ronchetti\, Technical Consultant at DSD Business Sys
 tems (and acu-connect President) answer your eCommerce questions.\n\nDon
 ’t miss this unique opportunity to ask the experts anything...\n\nReserv
 e your spot today!\n\n&nbsp\;\n\nDate: June 23\, 2022\n\nTime: 1:00 EDT\n\
 n&nbsp\;\n\nWATCH RECORDED WEBINAR NOW\n\n&nbsp\;
ATTACH;FMTTYPE=image/jpeg:https://acu-connect.com/wp-content/uploads/2023/
 08/img-acu-event-acuconnect-ama-ecommerce.jpg
CATEGORIES:Webinar
LOCATION:https://acu-connect.com/recorded-webinars/ama-webinar-connecting-y
 our-ecommerce-platform-with-acumatica/
END:VEVENT
BEGIN:VTIMEZONE
TZID:America/New_York
X-LIC-LOCATION:America/New_York
BEGIN:DAYLIGHT
DTSTART:20220313T030000
TZOFFSETFROM:-0500
TZOFFSETTO:-0400
TZNAME:EDT
END:DAYLIGHT
END:VTIMEZONE
END:VCALENDAR