BEGIN:VCALENDAR
VERSION:2.0
PRODID:-//wp-events-plugin.com//7.2.3.1//EN
TZID:America/Phoenix
X-WR-TIMEZONE:America/Phoenix
BEGIN:VEVENT
UID:128@acu-connect.com
DTSTART;TZID=America/New_York:20241112T130000
DTEND;TZID=America/New_York:20241112T140000
DTSTAMP:20241023T133331Z
URL:https://acu-connect.com/events/b2b-ecommerce-tax-compliance-6-essentia
 l-tips-to-optimize-and-grow/
SUMMARY:B2B Ecommerce & Tax Compliance: 6 Essential Tips to Optimize and Gr
 ow
DESCRIPTION:In the competitive world of B2B ecommerce\, businesses need to 
 focus not only on growth strategies but also on navigating complex tax com
 pliance requirements. This session will explore six key tips—three aimed
  at boosting your ecommerce business and three focused on ensuring tax com
 pliance—so you can optimize operations and grow with confidence. From le
 veraging technology for seamless sales processes to understanding ever-cha
 nging tax regulations\, this session provides practical insights to help y
 our business stay compliant while thriving in the B2B space.\n\nEcommerce 
 Growth and Tax Compliance Tips:\n\n 	B2B Ecommerce Trends for 2025\n 	Unde
 rstanding the Differences Between B2B and B2C Ecommerce\n 	Optimizing the 
 Checkout Experience\n 	Automate Sales Tax Calculations to reduce errors an
 d ensure accuracy across jurisdictions with ecommerce-specific solutions.\
 n 	Manage Exemption Certificates Efficiently to avoid audits and penalties
 .\n 	Stay Ahead of Nexus Obligations to stay compliant as your ecommerce p
 resence expands.\n\nIdeal for B2B ecommerce professionals focused on opera
 tions\, and marketing\, tax managers\, and finance leaders looking to bala
 nce growth strategies with effective tax compliance management.\n\n\n\nSpe
 akers:\n\nK-ecommerce: Patrick Fusarini\nAvalara: TBD\nModerator: Amiee Ke
 enan\n\nDate: November 12\, 2024\nTime: 1 PM ET
ATTACH;FMTTYPE=image/jpeg:https://acu-connect.com/wp-content/uploads/2024/
 10/b2b-ecommerce-tax-compliance-6-essential-tips-to-optimize-and-grow-feat
 ured.png
CATEGORIES:Webinar
LOCATION:https://us06web.zoom.us/webinar/register/WN_GmfAIis1T2iR6dPWShAusw
END:VEVENT
BEGIN:VTIMEZONE
TZID:America/New_York
X-LIC-LOCATION:America/New_York
BEGIN:STANDARD
DTSTART:20241103T010000
TZOFFSETFROM:-0400
TZOFFSETTO:-0500
TZNAME:EST
END:STANDARD
END:VTIMEZONE
END:VCALENDAR