BEGIN:VCALENDAR
VERSION:2.0
PRODID:-//wp-events-plugin.com//7.2.3.1//EN
TZID:America/Phoenix
X-WR-TIMEZONE:America/Phoenix
BEGIN:VEVENT
UID:196@acu-connect.com
DTSTART;TZID=America/New_York:20251112T140000
DTEND;TZID=America/New_York:20251112T143000
DTSTAMP:20251112T074534Z
URL:https://acu-connect.com/events/be-leaf-in-a-better-way-to-manage-your-
 pricing/
SUMMARY:Be-Leaf in a Better Way to Manage Your Pricing
DESCRIPTION:The pie’s the limit with Rockton Pricing Management.\n\n\nDon
 ’t let outdated price management processes leave you scrambling. Carve o
 ut a simpler way to manage your pricing!\n\nWhether your pricing structure
  utilizes commissions\, tiered pricing\, promotions\, cost-plus pricing\, 
 all the above or something else entirely\, Rockton Pricing Management serv
 es up everything you need to simplify even the most complex pricing strate
 gies — so you can ditch the spreadsheets and focus on strategy.\n\nRockt
 on Pricing Management is flexible\, powerful\, and compatible with every E
 RP system. Pricing managers\, you’re going to enjoy how much time you’
 ll have for other tasks\; CFOs\, you’re going to love seeing your profit
  margins skyrocket.\n\nDate: November 12\, 2024\nTime: 2 PM ET\n\nREGISTER
  HERE
ATTACH;FMTTYPE=image/jpeg:https://acu-connect.com/wp-content/uploads/2025/
 11/rs-11-12-25-daef84d4cba83cd8e98326fb556f73da.jpg
CATEGORIES:Webinar
LOCATION:https://register.gotowebinar.com/register/7301710935095349341
END:VEVENT
BEGIN:VTIMEZONE
TZID:America/New_York
X-LIC-LOCATION:America/New_York
BEGIN:STANDARD
DTSTART:20251102T010000
TZOFFSETFROM:-0400
TZOFFSETTO:-0500
TZNAME:EST
END:STANDARD
END:VTIMEZONE
END:VCALENDAR