BEGIN:VCALENDAR
VERSION:2.0
PRODID:-//wp-events-plugin.com//7.2.3.1//EN
TZID:America/Phoenix
X-WR-TIMEZONE:America/Phoenix
BEGIN:VEVENT
UID:111@acu-connect.com
DTSTART;TZID=America/New_York:20240616T113000
DTEND;TZID=America/New_York:20240616T153000
DTSTAMP:20240615T152818Z
URL:https://acu-connect.com/events/beat-the-summer-heat-level-up-your-acum
 atica-skills/
SUMMARY:Beat the Summer Heat & Level Up Your Acumatica Skills!
DESCRIPTION:Join The ISv Society - Acumatica Summer Workshop on July 16th a
 nd gain valuable knowledge on in-demand skills like SQL\, automation\, tax
 -exempt sales\, and B2B ecommerce.\n\nChoose from a variety of sessions:\n
 SQL Fundamentals: Learn data analysis skills for Acumatica (presented by T
 im Rodman).\nLeveraging Technology for Distributors: Streamline operations
  with Aldrich Solutions.\nTax-Exempt Sales 101: Master exemption certifica
 tes with Avalara.\nYour B2B Ecommerce Roadmap: Drive revenue and customer 
 satisfaction with k-ecommerce.\n\nPlus\, you can earn up to 4 CPE credits!
 \nReserve your spot today!\n\nDate: 06/16/24\n\nTime: 11:30 AM ET
ATTACH;FMTTYPE=image/jpeg:https://acu-connect.com/wp-content/uploads/2024/
 06/beat-the-summer-heat-level-up-your-acumatica-skills-featured.png
CATEGORIES:Webinar
LOCATION:https://us02web.zoom.us/webinar/register/1617179377229/WN_Bqlq921v
 SOKndN2DCoRnWA
END:VEVENT
BEGIN:VTIMEZONE
TZID:America/New_York
X-LIC-LOCATION:America/New_York
BEGIN:DAYLIGHT
DTSTART:20240310T030000
TZOFFSETFROM:-0500
TZOFFSETTO:-0400
TZNAME:EDT
END:DAYLIGHT
END:VTIMEZONE
END:VCALENDAR