BEGIN:VCALENDAR
VERSION:2.0
PRODID:-//wp-events-plugin.com//7.2.3.1//EN
TZID:America/Phoenix
X-WR-TIMEZONE:America/Phoenix
BEGIN:VEVENT
UID:183@acu-connect.com
DTSTART;TZID=America/New_York:20250904T120000
DTEND;TZID=America/New_York:20250904T130000
DTSTAMP:20250822T163109Z
URL:https://acu-connect.com/events/beyond-the-demo-evaluating-mission-crit
 ical-applications-to-maximize-roi-in-acumatica/
SUMMARY:Beyond the Demo: Evaluating Mission-Critical Applications to Maximi
 ze ROI in Acumatica
DESCRIPTION:Most software demos are just sales pitches where you sit and li
 sten\, hoping the product might work for you. There's a better way.\n\nJoi
 n Rob Kirkey\, Chief Revenue Officer at 3Value\, on Thursday\, September 4
 th at 12pm ET as he shows Acumatica users (and those considering Acumatica
 ) a framework called "Show and Ask."\n\nLearn how to stop wasting time on 
 software that doesn't fit and start finding solutions that help you get th
 e most out of your Acumatica investment. This is for business owners and m
 anagers who use Acumatica or are thinking about it and want to add softwar
 e that actually works.\n\nAbout the Presenters:\n\n3Value: A boutique Acum
 atica partner specializing in mission-critical applications for manufactur
 ing and other industries. They use their unique proven "Show and Ask" meth
 odology to help clients achieve their measure of success: 100x or more in 
 ROI. As a boutique firm\, they work closely with clients to provide substa
 ntial value that's scalable\, systemic\, and sustainable.\n\nCADTALK: The 
 world's first configurable CAD to ERP integration platform that automatica
 lly transfers bill of material data without custom development\, helping m
 anufacturing companies reach market 5x faster by automating the handoff fr
 om engineering to manufacturing.\n\nWhen: September 4\, 2025\n\nTime: 12:0
 0 PM ET\n\nREGISTER NOW
ATTACH;FMTTYPE=image/jpeg:https://acu-connect.com/wp-content/uploads/2025/
 08/beyond-the-demo-evaluating-mission-critical-applications-to-maximize-ro
 i-in-acumatica-event-featured.png
CATEGORIES:Webinar
LOCATION:https://attendee.gotowebinar.com/register/7599136526345240667?sour
 ce=acu-connect
END:VEVENT
BEGIN:VTIMEZONE
TZID:America/New_York
X-LIC-LOCATION:America/New_York
BEGIN:DAYLIGHT
DTSTART:20250309T030000
TZOFFSETFROM:-0500
TZOFFSETTO:-0400
TZNAME:EDT
END:DAYLIGHT
END:VTIMEZONE
END:VCALENDAR