BEGIN:VCALENDAR
VERSION:2.0
PRODID:-//wp-events-plugin.com//7.2.3.1//EN
TZID:America/Phoenix
X-WR-TIMEZONE:America/Phoenix
BEGIN:VEVENT
UID:78@acu-connect.com
DTSTART;TZID=America/Los_Angeles:20231214T110000
DTEND;TZID=America/Los_Angeles:20231214T113000
DTSTAMP:20231227T123534Z
URL:https://acu-connect.com/events/cimcloud-product-overview/
SUMMARY:CIMcloud: Product Overview
DESCRIPTION:CIMcloud Product: Overview\nCIMcloud allows you to secure &amp\
 ; grow your sales without growing your headcount by allowing your customer
 s to engage in self-service and by keeping your employees informed. Learn 
 how you can use your existing ERP system and business data to keep your bu
 siness moving forward.\nDate: December 14\, 2023\nTime: 11 AM ET\n\nREGIST
 ER NOW
ATTACH;FMTTYPE=image/jpeg:https://acu-connect.com/wp-content/uploads/2023/
 12/CC-90-Minds-21.png
CATEGORIES:Webinar
LOCATION:https://register.gotowebinar.com/register/2771417348339541337?sour
 ce=acu
END:VEVENT
BEGIN:VTIMEZONE
TZID:America/Los_Angeles
X-LIC-LOCATION:America/Los_Angeles
BEGIN:STANDARD
DTSTART:20231105T010000
TZOFFSETFROM:-0700
TZOFFSETTO:-0800
TZNAME:PST
END:STANDARD
END:VTIMEZONE
END:VCALENDAR