BEGIN:VCALENDAR
VERSION:2.0
PRODID:-//wp-events-plugin.com//7.2.3.1//EN
TZID:America/Phoenix
X-WR-TIMEZONE:America/Phoenix
BEGIN:VEVENT
UID:112@acu-connect.com
DTSTART;TZID=America/New_York:20240627T130000
DTEND;TZID=America/New_York:20240627T140000
DTSTAMP:20240620T172518Z
URL:https://acu-connect.com/events/cimcloud-success-series-webinar-seo/
SUMMARY:CIMcloud Success Series Webinar - SEO
DESCRIPTION:Join CIMcloud for this live\, interactive session where CIMclou
 d Technical Project Manager Spencer Patrick and digital marketing consulta
 nt Troy Olson will discuss how to make the most of your Search Engine Opti
 mization efforts. They will review what SEO-related features are part of t
 he CIMcloud platform\, share advice on what you can do today to influence 
 your SEO efforts and provide industry insights on the ever-changing SEO la
 ndscape.\n\nRegister today!\n\nDate: 06/27/24\nTime: 1 PM ET
ATTACH;FMTTYPE=image/jpeg:https://acu-connect.com/wp-content/uploads/2024/
 06/cimcloud-success-series-webinar-seo-featured.png
CATEGORIES:Webinar
LOCATION:https://register.gotowebinar.com/register/4557676248235494742?sour
 ce=acuconnect
END:VEVENT
BEGIN:VTIMEZONE
TZID:America/New_York
X-LIC-LOCATION:America/New_York
BEGIN:DAYLIGHT
DTSTART:20240310T030000
TZOFFSETFROM:-0500
TZOFFSETTO:-0400
TZNAME:EDT
END:DAYLIGHT
END:VTIMEZONE
END:VCALENDAR