BEGIN:VCALENDAR
VERSION:2.0
PRODID:-//wp-events-plugin.com//7.2.3.1//EN
TZID:America/Phoenix
X-WR-TIMEZONE:America/Phoenix
BEGIN:VEVENT
UID:38@acu-connect.com
DTSTART;TZID=America/Los_Angeles:20220426T110000
DTEND;TZID=America/Los_Angeles:20220426T113000
DTSTAMP:20230830T163736Z
URL:https://acu-connect.com/events/close-the-gaps-in-your-wholesale-distri
 bution-with-acumatica-distribution-edition-webinar/
SUMMARY:Close the Gaps in Your Wholesale Distribution with Acumatica Distri
 bution Edition Webinar
DESCRIPTION:Distributors struggle with varying supply chain costs\, increas
 ed demand for agility\, and chaotic inventory management. Acumatica Distri
 bution Edition empowers them with intuitive tools to combat these issues.\
 n\nThis distribution-focused webinar will spotlight ways to:\n\n 	Increase
  sales revenues\n 	Improve operational efficiency\n 	Seamlessly manage acc
 ounting processes\n\nSoon\, you will be ready to achieve up-sells and cros
 s-sells\, directed paperless warehouse picking\, and period sensitive purc
 hase accrual inquiries.\n\nRegister today to learn how Acumatica Distribut
 ion Edition can improve company performance and gain timely business and d
 ata insights.\n\nDate: April 26\, 2022\n\nTime: 11:00- 11:30 AM PST\n\n&nb
 sp\;\n\nREGISTRATION
ATTACH;FMTTYPE=image/jpeg:https://acu-connect.com/wp-content/uploads/2023/
 08/img-acu-event-close-the-gaps-in-wholesale-distribution.jpg
CATEGORIES:Webinar
LOCATION:https://event.on24.com/wcc/r/3712088/1E131443FCE46CE5BECD5A604B7BA
 C07?partnerref=web
END:VEVENT
BEGIN:VTIMEZONE
TZID:America/Los_Angeles
X-LIC-LOCATION:America/Los_Angeles
BEGIN:DAYLIGHT
DTSTART:20220313T030000
TZOFFSETFROM:-0800
TZOFFSETTO:-0700
TZNAME:PDT
END:DAYLIGHT
END:VTIMEZONE
END:VCALENDAR