BEGIN:VCALENDAR
VERSION:2.0
PRODID:-//wp-events-plugin.com//7.2.3.1//EN
TZID:America/Phoenix
X-WR-TIMEZONE:America/Phoenix
BEGIN:VEVENT
UID:2@acu-connect.com
DTSTART;TZID=America/Los_Angeles:20230419T110000
DTEND;TZID=America/Los_Angeles:20230419T113000
DTSTAMP:20230808T034958Z
URL:https://acu-connect.com/events/convincing-your-cfo-you-need-to-automat
 e-ap/
SUMMARY:Convincing Your CFO You NEED to Automate AP
DESCRIPTION:Does your boss know how much TIME and MONEY they could save the
  company by simply automating your AP processes?\n\nMost of our customers 
 experience ROI within 3-9 months (CFOs love this stat!) and you can too!\n
 \nLet us help you make the case for AP automation to your management team!
  Join us for 30 minutes and get the hard facts about AP automation and how
  it can:\n\n 	Increase efficiency – save time by reducing manual tasks\,
  i.e. faster processing times\n 	Improve accuracy – minimize errors and 
 avoid late payments or overpayments\n 	Increase visibility – better cash
  flow management with real-time invoice and payment status\n\nDate: April 
 19\, 2023\n\nTime: 11:00 am PST\n\nREGISTRATION
ATTACH;FMTTYPE=image/jpeg:https://acu-connect.com/wp-content/uploads/2023/
 03/img-acu-connect-webinar-altec-700x350-1.png
CATEGORIES:Webinar
LOCATION:https://altec-inc.webex.com/weblink/register/r34cc04819188b78a23c8
 f8aab312714a
END:VEVENT
BEGIN:VTIMEZONE
TZID:America/Los_Angeles
X-LIC-LOCATION:America/Los_Angeles
BEGIN:DAYLIGHT
DTSTART:20230312T030000
TZOFFSETFROM:-0800
TZOFFSETTO:-0700
TZNAME:PDT
END:DAYLIGHT
END:VTIMEZONE
END:VCALENDAR