BEGIN:VCALENDAR
VERSION:2.0
PRODID:-//wp-events-plugin.com//7.2.3.1//EN
TZID:America/Phoenix
X-WR-TIMEZONE:America/Phoenix
BEGIN:VEVENT
UID:64@acu-connect.com
DTSTART;TZID=America/Phoenix:20230118T120000
DTEND;TZID=America/Phoenix:20230118T123000
DTSTAMP:20230829T232429Z
URL:https://acu-connect.com/events/dataself-acumatica-summit-pre-event-web
 inar/
SUMMARY:DataSelf Acumatica Summit Pre-Event Webinar
DESCRIPTION:Join DataSelf's pre-Summit webinar to learn how to fast-track y
 our Acumatica reporting &amp\; business intelligence:\n\n 	Superior Power:
  DataSelf ETL+ simplifies complex and labor-intensive reporting tasks\, s
 aving you time and expense.\n 	Ease: The easiest-to-use analytics tools 
  – Tableau\, Power BI\, and Excel.\n 	Speed: Fast deployment\, maintena
 nce\, report running time\, and a library of over 8\,000 KPI-driven report
 s and dashboards.\n\nThese and several other benefits will be featured at 
 Acumatica Summit 2023.\n\nPresenters:\n– Joni Girardi: DataSelf Founder\
 , CEO\, &amp\; self-proclaimed ‘Data Geek’\n– Don Farber: DataSelf I
 ndustry Analyst\n\n&nbsp\;\n\nREGISTRATION
ATTACH;FMTTYPE=image/jpeg:https://acu-connect.com/wp-content/uploads/2023/
 08/img-event-dataself-acumatica-summit-pre-event-webinar.jpg
CATEGORIES:Webinar
LOCATION:https://us02web.zoom.us/webinar/register/WN_M0XVlTQ1Q_WQdrWbcXf9Tg
END:VEVENT
BEGIN:VTIMEZONE
TZID:America/Phoenix
X-LIC-LOCATION:America/Phoenix
BEGIN:STANDARD
DTSTART:20220118T120000
TZOFFSETFROM:-0700
TZOFFSETTO:-0700
TZNAME:MST
END:STANDARD
END:VTIMEZONE
END:VCALENDAR