BEGIN:VCALENDAR
VERSION:2.0
PRODID:-//wp-events-plugin.com//7.2.3.1//EN
TZID:America/Phoenix
X-WR-TIMEZONE:America/Phoenix
BEGIN:VEVENT
UID:103@acu-connect.com
DTSTART;TZID=America/New_York:20240605T120000
DTEND;TZID=America/New_York:20240605T130000
DTSTAMP:20240602T131411Z
URL:https://acu-connect.com/events/demystifying-ai-a-year-later-from-buzz-
 to-reality/
SUMMARY:Demystifying AI: A year later\, from Buzz to Reality
DESCRIPTION:Although the concept of AI was introduced in the 1950s\, consum
 er demand has changed the business landscape significantly\, contributing 
 to AI technology's increasing popularity. As supply chains are susceptible
  to disruptions\, AI technology can be used as a powerful tool to improve 
 the supply and demand planning process and move customers closer to a perf
 ect system: having the right inventory at the right place and time to meet
  demand.\n\nAI technology is capturing everyone's attention and is already
  reshaping industries worldwide. You may wonder how AI will benefit your b
 usiness\, what its impact will be on your supply and demand planning\, or 
 why you should invest in AI as part of your tech stack.\n\nIn the webinar\
 , we’ll uncover the practical implementation of AI in your business for 
 supply and demand planning and provide a clear and actionable insight into
  its untapped potential in this area.\n\nGain valuable insights from Barry
  Kukkuk\, CTO &amp\; Co-founder and visionary behind Netstock's AI-powered
  supply and demand planning software\, as he provides candid insights on t
 he transformative impact of AI and best practices for your business. Disco
 ver how AI technologies can support unlocking inventory opportunities\, en
 hance efficiency\, reduce costs\, and drive overall business profitability
 .\n\nDate: 06/05/24\nTime: 12 PM ET
ATTACH;FMTTYPE=image/jpeg:https://acu-connect.com/wp-content/uploads/2024/
 05/demystifying-ai-a-year-later-from-buzz-to-reality-featured.jpeg
CATEGORIES:Webinar
LOCATION:https://event.on24.com/wcc/r/4587142/6BAE107753FC9A4E744B3EE255870
 0D3?partnerref=test
END:VEVENT
BEGIN:VTIMEZONE
TZID:America/New_York
X-LIC-LOCATION:America/New_York
BEGIN:DAYLIGHT
DTSTART:20240310T030000
TZOFFSETFROM:-0500
TZOFFSETTO:-0400
TZNAME:EDT
END:DAYLIGHT
END:VTIMEZONE
END:VCALENDAR