BEGIN:VCALENDAR
VERSION:2.0
PRODID:-//wp-events-plugin.com//7.2.3.1//EN
TZID:America/Phoenix
X-WR-TIMEZONE:America/Phoenix
BEGIN:VEVENT
UID:100@acu-connect.com
DTSTART;TZID=America/New_York:20240515T140000
DTEND;TZID=America/New_York:20240515T143000
DTSTAMP:20240430T164015Z
URL:https://acu-connect.com/events/escape-your-paper-tsunami-ap-automation
 -can-be-yours/
SUMMARY:Escape your Paper Tsunami: AP Automation Can Be Yours
DESCRIPTION:Are you tired of drowning in a sea of paper invoices and spendi
 ng countless hours processing manually? It's time to navigate toward calme
 r waters and reclaim your valuable time.\n\nIn just 30 minutes you can lea
 rn how to digitize your documents and streamline your workflows for:\n\n
 • A staggering 50-75% reduction in AP processing times\n• Approval pro
 cesses that shrink from weeks or days to mere hours or minutes\n• Instan
 t document access and retrieval at your fingertips\n• Return on investme
 nt within the first year\, typically within 3-9 months\n\nJoin us to liber
 ate yourself from paper-based inefficiencies and transform your AP departm
 ent into a powerhouse of productivity!\n\nDate: 5/15/24\nTime: 2 PM ET
ATTACH;FMTTYPE=image/jpeg:https://acu-connect.com/wp-content/uploads/2024/
 04/escape-your-paper-tsunami-ap-automation-can-be-yours-featured.png
CATEGORIES:Webinar
LOCATION:https://attendee.gotowebinar.com/register/8371536837111291734?sour
 ce=Acu-Connect
END:VEVENT
BEGIN:VTIMEZONE
TZID:America/New_York
X-LIC-LOCATION:America/New_York
BEGIN:DAYLIGHT
DTSTART:20240310T030000
TZOFFSETFROM:-0500
TZOFFSETTO:-0400
TZNAME:EDT
END:DAYLIGHT
END:VTIMEZONE
END:VCALENDAR