BEGIN:VCALENDAR
VERSION:2.0
PRODID:-//wp-events-plugin.com//7.2.3.1//EN
TZID:America/Phoenix
X-WR-TIMEZONE:America/Phoenix
BEGIN:VEVENT
UID:184@acu-connect.com
DTSTART;TZID=America/New_York:20250917T120000
DTEND;TZID=America/New_York:20250917T123000
DTSTAMP:20250822T163835Z
URL:https://acu-connect.com/events/fall-into-a-smarter-pricing-strategy/
SUMMARY:Fall Into a Smarter Pricing Strategy
DESCRIPTION:Prices\, like the temperatures outside\, often change with the 
 seasons. Without a clear strategy\, those shifts can feel like a scramble\
 , especially if you’re still relying on spreadsheets to manage complex p
 ricing. But how do you formulate a strategy\, and\, even more\, how do you
  implement it? It sounds complicated\, and it certainly can be. That’s w
 hy we created Rockton Pricing Management\, a thoughtfully developed price 
 management system.\n\nIn this 30-minute session\, you’ll learn how to ta
 ke control of your pricing\, no matter how many variables are in play. Whe
 ther you’re managing rebates\, cost-plus pricing\, margins\, commissions
 \, tariffs\, or seasonal promotions\, Rockton Pricing Management helps you
  create a pricing process that’s reliable\, repeatable\, and easy to mai
 ntain. It’s a true “set it and forget it” solution\, so you can stay
  focused on strategy–not spreadsheets.\n\nWhen: September 17\, 2025\n\nT
 ime: 12:00 PM ET\n\nREGISTER NOW
ATTACH;FMTTYPE=image/jpeg:https://acu-connect.com/wp-content/uploads/2025/
 08/fall-into-a-smarter-pricing-strategy-event-featured.jpg
CATEGORIES:Webinar
LOCATION:https://register.gotowebinar.com/register/9219318585594120284
END:VEVENT
BEGIN:VTIMEZONE
TZID:America/New_York
X-LIC-LOCATION:America/New_York
BEGIN:DAYLIGHT
DTSTART:20250309T030000
TZOFFSETFROM:-0500
TZOFFSETTO:-0400
TZNAME:EDT
END:DAYLIGHT
END:VTIMEZONE
END:VCALENDAR