BEGIN:VCALENDAR
VERSION:2.0
PRODID:-//wp-events-plugin.com//7.2.3.1//EN
TZID:America/Phoenix
X-WR-TIMEZONE:America/Phoenix
BEGIN:VEVENT
UID:22@acu-connect.com
DTSTART;TZID=America/New_York:20230517T110000
DTEND;TZID=America/New_York:20230517T113000
DTSTAMP:20230830T163003Z
URL:https://acu-connect.com/events/from-struggle-to-success-how-doclink-us
 ers-successfully-automated-ap/
SUMMARY:From Struggle to Success: How DocLink Users Successfully Automated 
 AP
DESCRIPTION:You could be making similar success statements about your AP pr
 ocesses this time next year…\n“With DocLink\, most of our 50\,000-80\,
 000 documents can go from vendor to approver without a touch\, without a h
 uman key click.” - Herman Goldner\n“We’ve saved having to add 1-2 fu
 ll-time employees simply by using DocLink.” - EngageMED\n“DocLink has 
 helped us to grow substantially and automate\, not populate\, and we achie
 ved ROI in about 3.5 months” - Damuth Trane\nMany DocLink users have exp
 erienced lower invoice processing costs by up to 80% and a decrease of pro
 cessing time by up to 90%.\nWant to know how they did it?\n\nJoin us for t
 his 30 minute webinar to see how several of our customers used DocLink to 
 go paperless and create automated workflows resulting in significant time 
 and cost savings.\n\n&nbsp\;\n\nDate: May 13\, 2023\n\nTime: 11:00 am PST\
 n\nREGISTRATION
ATTACH;FMTTYPE=image/jpeg:https://acu-connect.com/wp-content/uploads/2023/
 08/img-acu-event-how-doclink-users-successfully-automated-ap.jpg
CATEGORIES:Webinar
LOCATION:https://altec-inc.webex.com/weblink/register/rb662da54ce310cda0b46
 dcfe13b32b56
END:VEVENT
BEGIN:VTIMEZONE
TZID:America/New_York
X-LIC-LOCATION:America/New_York
BEGIN:DAYLIGHT
DTSTART:20230312T030000
TZOFFSETFROM:-0500
TZOFFSETTO:-0400
TZNAME:EDT
END:DAYLIGHT
END:VTIMEZONE
END:VCALENDAR