BEGIN:VCALENDAR
VERSION:2.0
PRODID:-//wp-events-plugin.com//7.2.3.1//EN
TZID:America/Phoenix
X-WR-TIMEZONE:America/Phoenix
BEGIN:VEVENT
UID:49@acu-connect.com
DTSTART;TZID=America/New_York:20220726T000000
DTEND;TZID=America/New_York:20220726T000000
DTSTAMP:20230830T163849Z
URL:https://acu-connect.com/events/how-to-assemble-your-lease-portfolio/
SUMMARY:How to Assemble Your Lease Portfolio
DESCRIPTION:Compiling a lease inventory is the first step in an organizatio
 n’s transition journey to the new lease accounting standard\, ASC 842. I
 t is one of the most time consuming and resource intensive parts of the tr
 ansition as well. However\, experience has shown that by breaking the task
  up into smaller steps\, the process becomes more manageable and easier to
  accomplish.\n\nJoin us as our presenters will discuss from whom and when 
 to obtain a lease listing\, the importance of determining scope early in t
 he process\, how to determine underlying asset classes\, why setting mater
 iality is so important\, and more to help aid the beginning stages of your
  transition process. LeaseQuery’s Director of Accounting Product Sarah O
 ’Sullivan will also share personal experiences and insight from her prio
 r role in leading a Fortune 500 company through transition.\nLearning Obje
 ctives\n\n 	Learn simple steps for building your lease inventory\n 	Identi
 fy which leases are in scope under the new lease accounting standards\n 	E
 xplore next steps to develop a plan for your transition\n\nDate: July 26\,
  2022\n\nTime: 1:00 - 2:00 PM EDT\n\n&nbsp\;\n\nREGISTRATION\n\n&nbsp\;
ATTACH;FMTTYPE=image/jpeg:https://acu-connect.com/wp-content/uploads/2023/
 08/img-acu-event-leasequerry-compile-lease-portfolio.jpg
CATEGORIES:Webinar
LOCATION:https://leasequery.com/webinar-registration-leasequery-how-to-asse
 mble-the-lease-portfolio/?utm_master=acuconnect
END:VEVENT
BEGIN:VTIMEZONE
TZID:America/New_York
X-LIC-LOCATION:America/New_York
BEGIN:DAYLIGHT
DTSTART:20220313T030000
TZOFFSETFROM:-0500
TZOFFSETTO:-0400
TZNAME:EDT
END:DAYLIGHT
END:VTIMEZONE
END:VCALENDAR