BEGIN:VCALENDAR
VERSION:2.0
PRODID:-//wp-events-plugin.com//7.2.3.1//EN
TZID:America/Phoenix
X-WR-TIMEZONE:America/Phoenix
BEGIN:VEVENT
UID:24@acu-connect.com
DTSTART;TZID=America/Los_Angeles:20230426T100000
DTEND;TZID=America/Los_Angeles:20230426T110000
DTSTAMP:20230808T030934Z
URL:https://acu-connect.com/events/investing-in-ar-ap-strategies-why-its-w
 orth-it/
SUMMARY:Investing in AR & AP Strategies - Why it's Worth It
DESCRIPTION:There's no doubt that organizations\, large and small\, have al
 tered the way business processes are managed over the last decade\, includ
 ing leveraging technology to streamline accounts receivable and accounts p
 ayable processes.  In fact\, digital transformation is viewed as critical
  to a majority (52%) of mid-market businesses\; however\, more than 90% of
  accounting departments still rely on email and Excel to manage AR and 60%
  of AP departments still send B2B payments via paper check.\n\nJoin Lockst
 ep and REPAY to learn how automation improves efficiency\, maximizes worki
 ng capital\, and frees up time to focus on stronger vendor and customer re
 lationships.\n\nWe’ll discuss:\n\n 	Accounts Receivable Benchmarks – W
 here do you stack up?\n 	The current and future states of B2B Payments\n\n
 We hope to see you there!\n\nDate: April 26\, 2023\n\nTime: 10:00 am PST -
  11:00 am PST\n\nREGISTRATION
ATTACH;FMTTYPE=image/jpeg:https://acu-connect.com/wp-content/uploads/2023/
 08/ISV-Society-April-Event.png
CATEGORIES:Webinar
LOCATION:https://us06web.zoom.us/webinar/register/WN_vxTIYoFFSo-d2qolAjgulw
END:VEVENT
BEGIN:VTIMEZONE
TZID:America/Los_Angeles
X-LIC-LOCATION:America/Los_Angeles
BEGIN:DAYLIGHT
DTSTART:20230312T030000
TZOFFSETFROM:-0800
TZOFFSETTO:-0700
TZNAME:PDT
END:DAYLIGHT
END:VTIMEZONE
END:VCALENDAR