BEGIN:VCALENDAR
VERSION:2.0
PRODID:-//wp-events-plugin.com//7.2.3.1//EN
TZID:America/Phoenix
X-WR-TIMEZONE:America/Phoenix
BEGIN:VEVENT
UID:60@acu-connect.com
DTSTART;TZID=America/New_York:20221214T130000
DTEND;TZID=America/New_York:20221214T160000
DTSTAMP:20230830T163144Z
URL:https://acu-connect.com/events/lease-summit-the-fasb-series/
SUMMARY:LEASE Summit – The FASB Series
DESCRIPTION:LEASE Summit – The FASB Series\nJoin the LeaseQuery team on D
 ecember 14th to earn 3 free CPE credits during their upcoming virtual even
 t – the LEASE Summit FASB Series!\n\nPresenters from a variety of indust
 ries will come together to discuss ASC 842 and commonly asked questions re
 lated to Day 2 accounting.\n\nRegister today to reserve your spot!\n\n&nbs
 p\;\n\nDate: December 14\, 2022\n\nTime: 1:00 pm ET - 4:00 pm ET\n\n&nbsp\
 ;\n\nREGISTRATION
ATTACH;FMTTYPE=image/jpeg:https://acu-connect.com/wp-content/uploads/2023/
 08/img-event-acuconnect-lease-summit-fasb-series.jpg
CATEGORIES:Webinar
LOCATION:https://leasequery.com/2022-lease-summit-fasb-series/?utm_master=f
 asb-summit-acu
END:VEVENT
BEGIN:VTIMEZONE
TZID:America/New_York
X-LIC-LOCATION:America/New_York
BEGIN:STANDARD
DTSTART:20221106T010000
TZOFFSETFROM:-0400
TZOFFSETTO:-0500
TZNAME:EST
END:STANDARD
END:VTIMEZONE
END:VCALENDAR