BEGIN:VCALENDAR
VERSION:2.0
PRODID:-//wp-events-plugin.com//7.2.3.1//EN
TZID:America/Phoenix
X-WR-TIMEZONE:America/Phoenix
BEGIN:VEVENT
UID:90@acu-connect.com
DTSTART;TZID=America/New_York:20240312T130000
DTEND;TZID=America/New_York:20240312T133000
DTSTAMP:20240227T143913Z
URL:https://acu-connect.com/events/navigating-the-intersection-of-tax-comp
 liance-and-shipping-efficiency/
SUMMARY:Navigating the Intersection of Tax Compliance and Shipping Efficien
 cy with Avalara and V-Technologies
DESCRIPTION:In today’s business landscape\, organizations face an array o
 f complexities that can challenge their operations on multiple fronts. The
 se complexities stem from various factors\, including regulatory changes\,
  technological advancements\, global expansion\, and shifting consumer dem
 ands.\n\nJoin Avalara and StarShip by V-Technologies for a webinar hosted 
 by acu-connect on March 12\, 2024\, at 1:00 PM ET / 10:00 AM PT. In this 3
 0-minute webinar\, we will delve into the crucial connection between tax c
 ompliance and shipping operations\, offering practical insights and action
 able strategies to streamline processes and ensure compliance in today’s
  complex business landscape.\n\nWe’ll discuss:\n\n 	Understanding the im
 pact of tax compliance on shipping\n 	Optimizing shipping processes to max
 imize efficiency\n 	Leveraging technology to improve your digital transfor
 mation journey\n\nDon’t miss this opportunity to gain valuable insights 
 and practical tips to enhance your tax compliance and shipping operations.
 \n\nREGISTER HERE\n\n&nbsp\;
ATTACH;FMTTYPE=image/jpeg:https://acu-connect.com/wp-content/uploads/2024/
 02/Navigating-the-Intersection-of-Tax-Compliance-and-Shipping-Efficiency-w
 ith-Avalara-and-V-Technologies.png
CATEGORIES:Webinar
END:VEVENT
BEGIN:VTIMEZONE
TZID:America/New_York
X-LIC-LOCATION:America/New_York
BEGIN:DAYLIGHT
DTSTART:20240310T030000
TZOFFSETFROM:-0500
TZOFFSETTO:-0400
TZNAME:EDT
END:DAYLIGHT
END:VTIMEZONE
END:VCALENDAR