BEGIN:VCALENDAR
VERSION:2.0
PRODID:-//wp-events-plugin.com//7.2.3.1//EN
TZID:America/Phoenix
X-WR-TIMEZONE:America/Phoenix
BEGIN:VEVENT
UID:72@acu-connect.com
DTSTART;TZID=America/Los_Angeles:20231031T090000
DTEND;TZID=America/Los_Angeles:20231031T100000
DTSTAMP:20231227T120859Z
URL:https://acu-connect.com/events/navigating-year-end-with-ap-best-practi
 ces-and-pricing-solutions/
SUMMARY:Navigating Year-End with AP Best Practices and Pricing Solutions
DESCRIPTION:As 2023 comes to a close\, it is time to wrap up the year with 
 some best practices that will help button up the year and position you for
  success in 2024. Join Rockton and Repay for a lively tour of solid AP pra
 ctices and Pricing Management solutions that keep you on track and set you
  up for a banner year.\n\nWhat better way to make a year-end happier than 
 with a simple and effective Acumatica Accounts Payable (AP) Vendor Payment
 s integration and Pricing Management tool review? Join us for this present
 ation and we will share how to end this year with SAVINGS from reducing ac
 counts payable costs\, streamlining AP\, and mitigating risk and fraud alo
 ng with strategies and tactics to conquer pricing once and for all!\n\nPre
 sented by:\n\n 	Mark Rockwell (Rockton Software)\n 	Nicole Benitez (REPAY)
 \n\nDate: Oct 31\, 2023\n\nTime: 12:00 PM ET/ 9:00 AM PT\n\nREGISTER NOW
ATTACH;FMTTYPE=image/jpeg:https://acu-connect.com/wp-content/uploads/2023/
 12/Navigating-Year-End-10-31-2023.png
CATEGORIES:Webinar
LOCATION:https://acu-connect.com/end-of-year-best-practices-webinar/
END:VEVENT
BEGIN:VTIMEZONE
TZID:America/Los_Angeles
X-LIC-LOCATION:America/Los_Angeles
BEGIN:DAYLIGHT
DTSTART:20230312T030000
TZOFFSETFROM:-0800
TZOFFSETTO:-0700
TZNAME:PDT
END:DAYLIGHT
END:VTIMEZONE
END:VCALENDAR