BEGIN:VCALENDAR
VERSION:2.0
PRODID:-//wp-events-plugin.com//7.2.3.1//EN
TZID:America/Phoenix
X-WR-TIMEZONE:America/Phoenix
BEGIN:VEVENT
UID:173@acu-connect.com
DTSTART;TZID=America/New_York:20250424T150000
DTEND;TZID=America/New_York:20250424T160000
DTSTAMP:20250416T162736Z
URL:https://acu-connect.com/events/power-bis-top-5-challenges-from-frustra
 tion-to-insight/
SUMMARY:Power BI’s Top 5 Challenges – From Frustration to Insight
DESCRIPTION:Whether for ERP\, CRM\, or other dataset\, Power BI is a game-c
 hanger for data visualization. But making it work seamlessly across your o
 rganization can be more difficult than expected. Do any of the following P
 ower BI challenges sound familiar?\n\n 	Slow refresh times and/or refresh 
 failures\n 	Inconsistent KPIs across multiple reports (no “single versio
 n of the truth”)\n 	Difficulty aligning data with BI governance policies
  (including GDPR\, HIPAA\, etc.)\n 	Frustration trying to connect to (and 
 blend data from) multiple data silos\n 	Limited ideas for KPIs -- and days
 \, weeks\, or months to create reports and dashboards\n\nJoin our upcoming
  webinar to discover how DataSelf resolves these common pain points in Pow
 er BI. You'll learn how to:\n\n 	Streamline your data for speed with DataS
 elf ETL+ (report execution in &lt\; 10 seconds)\n 	Achieve unified modelin
 g with DataSelf DFT (Dimension\, Fact\, &amp\; Time)\n 	Implement multi-ti
 ered security models\n 	Accelerate insights with our Power BI library of r
 eports &amp\; dashboards\n 	Go live with comprehensive modeling and KPIs i
 n under a day\n\nDon't miss this session — see how you can get the most 
 out of Power BI with less effort and more impact.\n\nWhen: April 24\, 2025
 \n\nTime: 4:00 PM ET\n\nREGISTER NOW
ATTACH;FMTTYPE=image/jpeg:https://acu-connect.com/wp-content/uploads/2025/
 04/power-bis-top-5-challenges-from-frustration-to-insight-event-featured.p
 ng
CATEGORIES:Live Conference
LOCATION:https://us02web.zoom.us/webinar/register/3117441314262/WN_eoRcGrA1
 RAe-1W3mBDFX2g
END:VEVENT
BEGIN:VTIMEZONE
TZID:America/New_York
X-LIC-LOCATION:America/New_York
BEGIN:DAYLIGHT
DTSTART:20250309T030000
TZOFFSETFROM:-0500
TZOFFSETTO:-0400
TZNAME:EDT
END:DAYLIGHT
END:VTIMEZONE
END:VCALENDAR