BEGIN:VCALENDAR
VERSION:2.0
PRODID:-//wp-events-plugin.com//7.2.3.1//EN
TZID:America/Phoenix
X-WR-TIMEZONE:America/Phoenix
BEGIN:VEVENT
UID:216@acu-connect.com
DTSTART;TZID=America/New_York:20260416T140000
DTEND;TZID=America/New_York:20260416T150000
DTSTAMP:20260314T041410Z
URL:https://acu-connect.com/events/productivity-tools-every-acumatica-cust
 omer-can-use/
SUMMARY:Productivity Tools Every Acumatica Customer Can Use
DESCRIPTION:Discover add-on solutions that any Acumatica customer can use\,
  regardless of industry.\n\nJoin acu-connect for a fast-paced live webinar
  featuring five leading ISVs and the practical tools they deliver to help 
 Acumatica users work smarter\, eliminate manual processes\, and extend the
  value of your ERP.\n\nDiscover powerful solutions that enhance Acumatica 
 for any industry\, any edition\, and any stage of growth.\n\nYou’ll hear
  directly from:\n- Bill: AI-Centric Financial Operation Automation\n- Solv
 er: AI-Accelerated Planning\, Reporting\, and Analysis for Acumatica\n- Li
 ghtspeed Voice: AI-Powered Call Integration for Acumatica\n- AvidXchange: 
 Acumatica Accounts Payable Automation powered by AvidXchange\n- DataSelf: 
 Next-Gen Acumatica Reporting with AI\n\nThere's something for everyone so 
 reserve our spot today!\n\nRegister Now
ATTACH;FMTTYPE=image/jpeg:https://acu-connect.com/wp-content/uploads/2026/
 03/productivity-tools-event-page-image.png
CATEGORIES:Webinar
LOCATION:https://register.gotowebinar.com/register/5748354996061046618
END:VEVENT
BEGIN:VTIMEZONE
TZID:America/New_York
X-LIC-LOCATION:America/New_York
BEGIN:DAYLIGHT
DTSTART:20260308T030000
TZOFFSETFROM:-0500
TZOFFSETTO:-0400
TZNAME:EDT
END:DAYLIGHT
END:VTIMEZONE
END:VCALENDAR