BEGIN:VCALENDAR
VERSION:2.0
PRODID:-//wp-events-plugin.com//7.2.3.1//EN
TZID:America/Phoenix
X-WR-TIMEZONE:America/Phoenix
BEGIN:VEVENT
UID:127@acu-connect.com
DTSTART;TZID=America/New_York:20241101T120000
DTEND;TZID=America/New_York:20241101T130000
DTSTAMP:20241014T092212Z
URL:https://acu-connect.com/events/spooky-scenarios-erp-lessons-from-the-f
 ield/
SUMMARY:Spooky Scenarios: ERP Lessons from the Field
DESCRIPTION:Join us for some real-life lessons learned from the field! Some
  of our friendly neighborhood VARs\, developers and customers will be part
 icipating in a lively panel\, sharing how ERP projects have gone awry and 
 the creative ways they’ve recovered from the mayhem.\n\nTopics include:\
 n\n 	Change / expectation management mishaps\n 	Inventory management night
 mares\n 	Integration and customization snafus\n\nHalloween costumes are op
 tional.\n\n\n\nThis panel includes:\n\nJennifer Douglas\, Tobacco Rag Proc
 essors\nLaura Jaffe\, Parallel Solutions\nRob Waite\, Net at Work\n\n\n\nD
 ate: November 1\, 2024\n\nTime: 12:00 PM ET\n\nREGISTER NOW
ATTACH;FMTTYPE=image/jpeg:https://acu-connect.com/wp-content/uploads/2024/
 10/spooky-scenarios-erp-lessons-from-the-field-featured.png
CATEGORIES:Webinar
LOCATION:https://us06web.zoom.us/webinar/register/WN_BvJjooLgT3mwspfonuL-2A
END:VEVENT
BEGIN:VTIMEZONE
TZID:America/New_York
X-LIC-LOCATION:America/New_York
BEGIN:DAYLIGHT
DTSTART:20240310T030000
TZOFFSETFROM:-0500
TZOFFSETTO:-0400
TZNAME:EDT
END:DAYLIGHT
END:VTIMEZONE
END:VCALENDAR