BEGIN:VCALENDAR
VERSION:2.0
PRODID:-//wp-events-plugin.com//7.2.3.1//EN
TZID:America/Phoenix
X-WR-TIMEZONE:America/Phoenix
BEGIN:VEVENT
UID:198@acu-connect.com
DTSTART;TZID=America/New_York:20251119T140000
DTEND;TZID=America/New_York:20251119T150000
DTSTAMP:20251113T144534Z
URL:https://acu-connect.com/events/supercharged-bi-reporting-ai-for-acumat
 ica-with-next-gen-analytics/
SUMMARY:Supercharged BI\, Reporting & AI for Acumatica - with Next Gen Anal
 ytics
DESCRIPTION:If you are ready to gain unprecedented insight into:\n Financia
 ls\n Supply Chain\n Sales &amp\; Inventory\n Project Accounting\n Budgetin
 g &amp\; Forecasting\n\nCome and learn how DataSelf’s ETL+ Data Warehous
 ing and next-generation BI Reporting can transform Acumatica analytics for
  your business:\n\n 	Empower decision-makers to find answers anytime\, any
 where - no IT bottlenecks\n 	Automate analytics with Power BI\, Tableau\, 
 or MS Excel\n 	Maintain data models and user security using a single versi
 on of the truth\n 	Automate repetitive data modeling and reporting tasks\n
  	Simplify advanced workflows to accelerate decision-making\n 	Leverage AI
  and machine learning\, including conversational interfaces\, to address b
 usiness questions\n\nIf you’re ready to replace frustration with power\,
  ease of use\, and lightning-fast insight\, this session is for you.\n\n\n
 \nWhen: November 19\, 2025\n\nTime: 2:00 PM - 3:00 PM ET\n\nREGISTER NOW
ATTACH;FMTTYPE=image/jpeg:https://acu-connect.com/wp-content/uploads/2025/
 11/supercharged-bi-reporting-ai-for-acumatica-with-next-gen-analytics-feat
 ured-image-event.png
CATEGORIES:Webinar
LOCATION:https://us02web.zoom.us/webinar/register/9717629701509/WN_MFiDav7T
 TX-ydkEO_0aEnQ
END:VEVENT
BEGIN:VTIMEZONE
TZID:America/New_York
X-LIC-LOCATION:America/New_York
BEGIN:STANDARD
DTSTART:20251102T010000
TZOFFSETFROM:-0400
TZOFFSETTO:-0500
TZNAME:EST
END:STANDARD
END:VTIMEZONE
END:VCALENDAR