BEGIN:VCALENDAR
VERSION:2.0
PRODID:-//wp-events-plugin.com//7.2.3.1//EN
TZID:America/Phoenix
X-WR-TIMEZONE:America/Phoenix
BEGIN:VEVENT
UID:186@acu-connect.com
DTSTART;TZID=America/New_York:20250911T110000
DTEND;TZID=America/New_York:20250911T120000
DTSTAMP:20250905T124037Z
URL:https://acu-connect.com/events/taking-acumatica-mobile-whats-new-at-ji
 gx-sep-25/
SUMMARY:Taking Acumatica Mobile - What's New at Jigx
DESCRIPTION:Join Jigx for the next What’s New at Jigx webinar\, where the
 y’ll walk you through the latest updates to Jigx Frontline for Acumatica
  - built to make your teams more productive\, connected\, and more mobile-
 ready than ever.\n\nHere’s a preview of what you’ll see:\n- Real-time 
 updates from Acumatica so your field and back-office teams always stay in 
 sync.\n- Field Tech support to create sales opportunities directly in the 
 app\, turning service calls into revenue.\n- SMS message support to instan
 tly notify and update your customers.\n- Warehouse stock picking with avai
 lable inventory\, no more guessing\, just accurate picks every time.\n- Cu
 stomer equipment tracking to manage assets and service history with ease.\
 n- Advanced timekeeping tools to simplify project management and improve b
 illing accuracy.\n\nAnd that’s not all – they will share more about AI
  and how Jigx will incorporate AI in their app\, helping you quickly acces
 s information and manage appointment-related tasks more efficiently.\n\nSa
 ve your spot today and see how Jigx is helping Acumatica customers work sm
 arter in the field every day.\n\nWhen: September 11\, 2025\n\nTime: 11:00 
 PM ET\n\nREGISTER NOW
ATTACH;FMTTYPE=image/jpeg:https://acu-connect.com/wp-content/uploads/2025/
 09/taking-acumatica-mobile-whats-new-at-jigx-featured.png
CATEGORIES:Webinar
LOCATION:https://events.teams.microsoft.com/event/1e6fd15c-1301-42be-a321-1
 e86899241c7@d658b387-e3d2-4adb-8999-fd372e36aa5e
END:VEVENT
BEGIN:VTIMEZONE
TZID:America/New_York
X-LIC-LOCATION:America/New_York
BEGIN:DAYLIGHT
DTSTART:20250309T030000
TZOFFSETFROM:-0500
TZOFFSETTO:-0400
TZNAME:EDT
END:DAYLIGHT
END:VTIMEZONE
END:VCALENDAR