BEGIN:VCALENDAR
VERSION:2.0
PRODID:-//wp-events-plugin.com//7.2.3.1//EN
TZID:America/Phoenix
X-WR-TIMEZONE:America/Phoenix
BEGIN:VEVENT
UID:220@acu-connect.com
DTSTART;TZID=America/New_York:20260520T140000
DTEND;TZID=America/New_York:20260520T143000
DTSTAMP:20260420T164832Z
URL:https://acu-connect.com/events/the-3-hidden-margin-leaks-in-distributi
 on/
SUMMARY:The 3 Hidden Margin Leaks in Distribution
DESCRIPTION:Complex pricing and tight margins make it easy for profit to sl
 ip through the cracks in distribution. Without a consistent strategy\, mar
 gin leakage can quietly impact your bottom line. Rockton Pricing Managemen
 t is a pricing intelligence platform that helps you take control—giving 
 you the visibility and confidence to price predictably and protect your ma
 rgins.\n\nJoin us on May 20\, 2026\, to uncover the three most common sour
 ces of margin loss in distribution and learn how to stop them with Rockton
  Pricing Management.\n\nRegister Now 
ATTACH;FMTTYPE=image/jpeg:https://acu-connect.com/wp-content/uploads/2026/
 04/rockton-may-event-image.jpg
CATEGORIES:Webinar
LOCATION:https://register.gotowebinar.com/#register/8705614664600460630
END:VEVENT
BEGIN:VTIMEZONE
TZID:America/New_York
X-LIC-LOCATION:America/New_York
BEGIN:DAYLIGHT
DTSTART:20260308T030000
TZOFFSETFROM:-0500
TZOFFSETTO:-0400
TZNAME:EDT
END:DAYLIGHT
END:VTIMEZONE
END:VCALENDAR