BEGIN:VCALENDAR
VERSION:2.0
PRODID:-//wp-events-plugin.com//7.2.3.1//EN
TZID:America/Phoenix
X-WR-TIMEZONE:America/Phoenix
BEGIN:VEVENT
UID:76@acu-connect.com
DTSTART;TZID=America/Los_Angeles:20231212T150000
DTEND;TZID=America/Los_Angeles:20231212T160000
DTSTAMP:20231227T122648Z
URL:https://acu-connect.com/events/the-top-5-ways-you-can-supercharge-your
 -product-demos/
SUMMARY:The Top 5 Ways You Can Supercharge Your Product Demos
DESCRIPTION:The Top 5 Ways You Can Supercharge Your Product Demos\nOne of t
 he most important milestones in an ERP sales process is the product demons
 tration.  As resellers and channel partners\, our job is to deliver produ
 ct demonstrations that bring deals over the finish line.  VARs depend on 
 it for new projects\, and the Publishers rely on it for new licenses.  Du
 ring this webinar\, we'll dive into 5 ways you supercharge your demonstrat
 ions\, turning this step in the sales process into a closing tool where yo
 u can differentiate yourself from your competition.\n\nDate: December 12\,
  2023\nTime: 3 PM ET\nPresented by: Jeremy Potoka\, Founder of Presales Le
 ader\n\nAbout Jeremy\n\nJeremy is focused on helping small and medium-size
 d resellers and publishers drive SaaS revenue growth.  Jeremy has built a
  company focusing on presales\, product marketing and post-sale solution d
 esign.  Presales Leader offers Presales as a Service for ERP VARs and ISV
 s.  Jeremy is a 5x Acumatica MVP and regularly speaks on digital transfor
 mation\, discovery best practices and the presales craft.\n\nREGISTER NOW\
 n\n&nbsp\;
ATTACH;FMTTYPE=image/jpeg:https://acu-connect.com/wp-content/uploads/2023/
 12/Acu-Connect-Social-Posts-Templates-7.png
CATEGORIES:Webinar
LOCATION:https://acu-connect.com/top-5-ways-you-can-supercharge-your-produc
 t-demos/
END:VEVENT
BEGIN:VTIMEZONE
TZID:America/Los_Angeles
X-LIC-LOCATION:America/Los_Angeles
BEGIN:STANDARD
DTSTART:20231105T010000
TZOFFSETFROM:-0700
TZOFFSETTO:-0800
TZNAME:PST
END:STANDARD
END:VTIMEZONE
END:VCALENDAR