BEGIN:VCALENDAR
VERSION:2.0
PRODID:-//wp-events-plugin.com//7.2.3.1//EN
TZID:America/Phoenix
X-WR-TIMEZONE:America/Phoenix
BEGIN:VEVENT
UID:114@acu-connect.com
DTSTART;TZID=America/New_York:20240717T140000
DTEND;TZID=America/New_York:20240717T143000
DTSTAMP:20240710T114014Z
URL:https://acu-connect.com/events/transform-your-ap-in-30-days-guaranteed
 /
SUMMARY:Transform Your AP in 30 Days — Guaranteed!
DESCRIPTION:Are you using a cloud ERP? Then you can say goodbye to your pap
 er clutter in just 30 days!\n\nJoin us and discover how to establish a str
 ong document management foundation in the cloud that will benefit your com
 pany ASAP\, including:\n\n• Faster invoice processing\n• Touchless dat
 a entry\n• Quick research\n• Instant access anywhere\n• Automated ca
 pture\n• Easy audit prep\n\nLearn what you get for a fixed cost with Doc
 Link Quick Deploy to unlock efficiency and streamline your processes…in 
 just one month.\n\nDate: July 17\, 2024\nTime: 2 PM ET
ATTACH;FMTTYPE=image/jpeg:https://acu-connect.com/wp-content/uploads/2024/
 07/transform-your-ap-in-30-days-guaranteed-featured.jpg
CATEGORIES:Webinar
LOCATION:https://attendee.gotowebinar.com/register/8488343456256186453?sour
 ce=Acu-Connect—Guaranteed!
END:VEVENT
BEGIN:VTIMEZONE
TZID:America/New_York
X-LIC-LOCATION:America/New_York
BEGIN:DAYLIGHT
DTSTART:20240310T030000
TZOFFSETFROM:-0500
TZOFFSETTO:-0400
TZNAME:EDT
END:DAYLIGHT
END:VTIMEZONE
END:VCALENDAR