BEGIN:VCALENDAR
VERSION:2.0
PRODID:-//wp-events-plugin.com//7.2.3.1//EN
TZID:America/Phoenix
X-WR-TIMEZONE:America/Phoenix
BEGIN:VEVENT
UID:19@acu-connect.com
DTSTART;TZID=America/New_York:20230608T140000
DTEND;TZID=America/New_York:20230608T144500
DTSTAMP:20230830T233809Z
URL:https://acu-connect.com/events/unlock-the-secrets-to-profitability-mas
 tering-inventory-optimization-and-price-management-webinar/
SUMMARY:Unlock the Secrets to Profitability: Mastering Inventory Optimizati
 on and Price Management Webinar
DESCRIPTION:Join Netstock and Rockton for a 40-minute learning session 
 that will revolutionize your approach to business profitability. Gain valu
 able insights\, expert tips\, and practical techniques to stay consistentl
 y profitable in today’s competitive market.\n\nIn this webinar\, you’l
 l learn how:\n\n 	Efficient inventory optimization reduces costs\, aligns
  pricing with demand\, and enables targeted promotions.\n 	Effective price
  management creates a balance between supply and demand while also optimi
 zing profits\, allowing you to adapt to market changes\, increase profit\,
  and decrease effort.\n\nDon’t miss out on this exclusive opportunity to
  supercharge your profits. Reserve your spot now!\n\nDate: Thursday\, Jun
 e 8th\, 2023\n\nTime:  2:00 pm EST/11:00 am PST\n\nDuration: 40 minutes\
 n\nPresented and Sponsored By: Netstock and Rockton Software\n\nWATCH REC
 ORDED WEBINAR NOW\n\n&nbsp\;\n\nNOTE: If you are unable to attend\, pleas
 e still register so we can send you a copy of the recording.
ATTACH;FMTTYPE=image/jpeg:https://acu-connect.com/wp-content/uploads/2023/
 08/img-acu-event-unlock-secrets-to-profitability.jpg
CATEGORIES:Webinar
LOCATION:https://acu-connect.com/recorded-webinars/unlock-the-secrets-to-pr
 ofitability-mastering-inventory-optimization-and-price-management/
END:VEVENT
BEGIN:VTIMEZONE
TZID:America/New_York
X-LIC-LOCATION:America/New_York
BEGIN:DAYLIGHT
DTSTART:20230312T030000
TZOFFSETFROM:-0500
TZOFFSETTO:-0400
TZNAME:EDT
END:DAYLIGHT
END:VTIMEZONE
END:VCALENDAR