BEGIN:VCALENDAR
VERSION:2.0
PRODID:-//wp-events-plugin.com//7.2.3.1//EN
TZID:America/Phoenix
X-WR-TIMEZONE:America/Phoenix
BEGIN:VEVENT
UID:81@acu-connect.com
DTSTART;TZID=America/Los_Angeles:20240118T140000
DTEND;TZID=America/Los_Angeles:20240118T150000
DTSTAMP:20231227T124256Z
URL:https://acu-connect.com/events/what-to-know-before-you-go-to-acumatica
 -summit-2024/
SUMMARY:What to Know Before You Go to Acumatica Summit 2024
DESCRIPTION:With Acumatica Summit 2024 just around the corner\, acu-connect
  wants to help get you and your team ready! \n\nJoin acu-connect for this
  webinar and learn how you can get the most from attending Acumatica Summi
 t 2024! We’ll provide our recommendations for the best Summit experience
  including:\n\n 	The best ways to connect and network with 3000+ attendees
 \n 	Events and activities\n 	Information on our meet and greet event\n\nWh
 en: January 18\, 2024\n\nTime: 2:00 PM - 3:00 PM ET\n\nSponsored by:\n\n\n
 REGISTER NOW
ATTACH;FMTTYPE=image/jpeg:https://acu-connect.com/wp-content/uploads/2023/
 12/img-acuconnect-webinar-what-to-know-dataself.png
CATEGORIES:Webinar
LOCATION:https://acu-connect.com/what-to-know-before-you-go-to-acumatica-su
 mmit-2024/
END:VEVENT
BEGIN:VTIMEZONE
TZID:America/Los_Angeles
X-LIC-LOCATION:America/Los_Angeles
BEGIN:STANDARD
DTSTART:20231105T010000
TZOFFSETFROM:-0700
TZOFFSETTO:-0800
TZNAME:PST
END:STANDARD
END:VTIMEZONE
END:VCALENDAR