BEGIN:VCALENDAR
VERSION:2.0
PRODID:-//wp-events-plugin.com//7.2.3.1//EN
TZID:America/Phoenix
X-WR-TIMEZONE:America/Phoenix
BEGIN:VEVENT
UID:46@acu-connect.com
DTSTART;TZID=America/New_York:20220614T160000
DTEND;TZID=America/New_York:20220614T163000
DTSTAMP:20230830T163827Z
URL:https://acu-connect.com/events/whats-all-the-erp-buzz-featuring-highra
 dius/
SUMMARY:What's All the ERP Buzz? Featuring Highradius
DESCRIPTION:If you’re one of the many companies that pushed the A/R proce
 ss to the back burner you’re not alone.\n\nBusinesses that rely on manua
 l processes take 67% more time to collect past-dues (Source: PYMNTS) Join 
 Morris Kupfer\, VP of Finance from Highradius as he chats about topics suc
 h as:\n\n 	What’s holding back your finance function in 2022\n 	Growth o
 utlook for 2022\n 	A/R automation - how to streamline\n 	Benchmark focus a
 reas\n\nIt all starts on June 14 at 4:00 EDT. We hope to see you there.\n\
 nDate: June 14\, 2022\n\nTime: 4:00 EDT\n\n&nbsp\;\n\nREGISTRATION
ATTACH;FMTTYPE=image/jpeg:https://acu-connect.com/wp-content/uploads/2023/
 08/img-acu-event-highradius-streamline-ar.jpg
CATEGORIES:Webinar
LOCATION:https://us06web.zoom.us/meeting/register/tJckd-mupj0oEtfFe2Bi0mpFo
 _StRYFZsGVj
END:VEVENT
BEGIN:VTIMEZONE
TZID:America/New_York
X-LIC-LOCATION:America/New_York
BEGIN:DAYLIGHT
DTSTART:20220313T030000
TZOFFSETFROM:-0500
TZOFFSETTO:-0400
TZNAME:EDT
END:DAYLIGHT
END:VTIMEZONE
END:VCALENDAR